BEGIN:VCALENDAR
VERSION:2.0
PRODID:-//Bogensport Holzhausen - ECPv6.15.20//NONSGML v1.0//EN
CALSCALE:GREGORIAN
METHOD:PUBLISH
X-WR-CALNAME:Bogensport Holzhausen
X-ORIGINAL-URL:https://bogensport-holzhausen.de
X-WR-CALDESC:Veranstaltungen für Bogensport Holzhausen
REFRESH-INTERVAL;VALUE=DURATION:PT1H
X-Robots-Tag:noindex
X-PUBLISHED-TTL:PT1H
BEGIN:VTIMEZONE
TZID:Europe/Berlin
BEGIN:DAYLIGHT
TZOFFSETFROM:+0100
TZOFFSETTO:+0200
TZNAME:CEST
DTSTART:20250330T010000
END:DAYLIGHT
BEGIN:STANDARD
TZOFFSETFROM:+0200
TZOFFSETTO:+0100
TZNAME:CET
DTSTART:20251026T010000
END:STANDARD
BEGIN:DAYLIGHT
TZOFFSETFROM:+0100
TZOFFSETTO:+0200
TZNAME:CEST
DTSTART:20260329T010000
END:DAYLIGHT
BEGIN:STANDARD
TZOFFSETFROM:+0200
TZOFFSETTO:+0100
TZNAME:CET
DTSTART:20261025T010000
END:STANDARD
BEGIN:DAYLIGHT
TZOFFSETFROM:+0100
TZOFFSETTO:+0200
TZNAME:CEST
DTSTART:20270328T010000
END:DAYLIGHT
BEGIN:STANDARD
TZOFFSETFROM:+0200
TZOFFSETTO:+0100
TZNAME:CET
DTSTART:20271031T010000
END:STANDARD
END:VTIMEZONE
BEGIN:VEVENT
DTSTART;TZID=Europe/Berlin:20260301T100000
DTEND;TZID=Europe/Berlin:20260301T130000
DTSTAMP:20260421T153012
CREATED:20250905T083628Z
LAST-MODIFIED:20250905T083628Z
UID:4831-1772359200-1772370000@bogensport-holzhausen.de
SUMMARY:Jugend - und Leistungstraining
DESCRIPTION:
URL:https://bogensport-holzhausen.de/termin/jugend-und-leistungstraining-155/
LOCATION:Sporthalle Holzhausen\, Sutthauser Straße 27\, Georgsmarienhütte\, Niedersachsen\, 49124\, Deutschland
CATEGORIES:Training
ORGANIZER;CN="Bogensport Holzhausen":MAILTO:kontakt@bogensport-holzhausen.de
END:VEVENT
BEGIN:VEVENT
DTSTART;TZID=Europe/Berlin:20260305T200000
DTEND;TZID=Europe/Berlin:20260305T220000
DTSTAMP:20260421T153012
CREATED:20250905T083517Z
LAST-MODIFIED:20250905T083517Z
UID:4808-1772740800-1772748000@bogensport-holzhausen.de
SUMMARY:Jugend- und Erwachsenentraining
DESCRIPTION:
URL:https://bogensport-holzhausen.de/termin/jugend-und-erwachsenentraining-278/
LOCATION:Sporthalle Holzhausen\, Sutthauser Straße 27\, Georgsmarienhütte\, Niedersachsen\, 49124\, Deutschland
CATEGORIES:Training
ORGANIZER;CN="Bogensport Holzhausen":MAILTO:kontakt@bogensport-holzhausen.de
END:VEVENT
BEGIN:VEVENT
DTSTART;TZID=Europe/Berlin:20260307T110000
DTEND;TZID=Europe/Berlin:20260307T133000
DTSTAMP:20260421T153012
CREATED:20250905T083133Z
LAST-MODIFIED:20250905T083133Z
UID:4784-1772881200-1772890200@bogensport-holzhausen.de
SUMMARY:Schülertraining
DESCRIPTION:
URL:https://bogensport-holzhausen.de/termin/schuelertraining-164/
LOCATION:Sporthalle Holzhausen\, Sutthauser Straße 27\, Georgsmarienhütte\, Niedersachsen\, 49124\, Deutschland
CATEGORIES:Training
ORGANIZER;CN="Bogensport Holzhausen":MAILTO:kontakt@bogensport-holzhausen.de
END:VEVENT
BEGIN:VEVENT
DTSTART;TZID=Europe/Berlin:20260308T100000
DTEND;TZID=Europe/Berlin:20260308T130000
DTSTAMP:20260421T153012
CREATED:20250905T083629Z
LAST-MODIFIED:20250905T083629Z
UID:4832-1772964000-1772974800@bogensport-holzhausen.de
SUMMARY:Jugend - und Leistungstraining
DESCRIPTION:
URL:https://bogensport-holzhausen.de/termin/jugend-und-leistungstraining-156/
LOCATION:Sporthalle Holzhausen\, Sutthauser Straße 27\, Georgsmarienhütte\, Niedersachsen\, 49124\, Deutschland
CATEGORIES:Training
ORGANIZER;CN="Bogensport Holzhausen":MAILTO:kontakt@bogensport-holzhausen.de
END:VEVENT
BEGIN:VEVENT
DTSTART;TZID=Europe/Berlin:20260312T200000
DTEND;TZID=Europe/Berlin:20260312T220000
DTSTAMP:20260421T153012
CREATED:20250905T083527Z
LAST-MODIFIED:20250905T083527Z
UID:4809-1773345600-1773352800@bogensport-holzhausen.de
SUMMARY:Jugend- und Erwachsenentraining
DESCRIPTION:
URL:https://bogensport-holzhausen.de/termin/jugend-und-erwachsenentraining-279/
LOCATION:Sporthalle Holzhausen\, Sutthauser Straße 27\, Georgsmarienhütte\, Niedersachsen\, 49124\, Deutschland
CATEGORIES:Training
ORGANIZER;CN="Bogensport Holzhausen":MAILTO:kontakt@bogensport-holzhausen.de
END:VEVENT
BEGIN:VEVENT
DTSTART;TZID=Europe/Berlin:20260314T110000
DTEND;TZID=Europe/Berlin:20260314T133000
DTSTAMP:20260421T153012
CREATED:20250905T083134Z
LAST-MODIFIED:20250905T083134Z
UID:4785-1773486000-1773495000@bogensport-holzhausen.de
SUMMARY:Schülertraining
DESCRIPTION:
URL:https://bogensport-holzhausen.de/termin/schuelertraining-165/
LOCATION:Sporthalle Holzhausen\, Sutthauser Straße 27\, Georgsmarienhütte\, Niedersachsen\, 49124\, Deutschland
CATEGORIES:Training
ORGANIZER;CN="Bogensport Holzhausen":MAILTO:kontakt@bogensport-holzhausen.de
END:VEVENT
BEGIN:VEVENT
DTSTART;TZID=Europe/Berlin:20260315T100000
DTEND;TZID=Europe/Berlin:20260315T130000
DTSTAMP:20260421T153012
CREATED:20250905T083630Z
LAST-MODIFIED:20250905T083630Z
UID:4833-1773568800-1773579600@bogensport-holzhausen.de
SUMMARY:Jugend - und Leistungstraining
DESCRIPTION:
URL:https://bogensport-holzhausen.de/termin/jugend-und-leistungstraining-157/
LOCATION:Sporthalle Holzhausen\, Sutthauser Straße 27\, Georgsmarienhütte\, Niedersachsen\, 49124\, Deutschland
CATEGORIES:Training
ORGANIZER;CN="Bogensport Holzhausen":MAILTO:kontakt@bogensport-holzhausen.de
END:VEVENT
BEGIN:VEVENT
DTSTART;TZID=Europe/Berlin:20260319T200000
DTEND;TZID=Europe/Berlin:20260319T220000
DTSTAMP:20260421T153012
CREATED:20250905T083528Z
LAST-MODIFIED:20250905T083528Z
UID:4810-1773950400-1773957600@bogensport-holzhausen.de
SUMMARY:Jugend- und Erwachsenentraining
DESCRIPTION:
URL:https://bogensport-holzhausen.de/termin/jugend-und-erwachsenentraining-280/
LOCATION:Sporthalle Holzhausen\, Sutthauser Straße 27\, Georgsmarienhütte\, Niedersachsen\, 49124\, Deutschland
CATEGORIES:Training
ORGANIZER;CN="Bogensport Holzhausen":MAILTO:kontakt@bogensport-holzhausen.de
END:VEVENT
BEGIN:VEVENT
DTSTART;TZID=Europe/Berlin:20260321T110000
DTEND;TZID=Europe/Berlin:20260321T133000
DTSTAMP:20260421T153012
CREATED:20250905T083135Z
LAST-MODIFIED:20250905T083135Z
UID:4786-1774090800-1774099800@bogensport-holzhausen.de
SUMMARY:Schülertraining
DESCRIPTION:
URL:https://bogensport-holzhausen.de/termin/schuelertraining-166/
LOCATION:Sporthalle Holzhausen\, Sutthauser Straße 27\, Georgsmarienhütte\, Niedersachsen\, 49124\, Deutschland
CATEGORIES:Training
ORGANIZER;CN="Bogensport Holzhausen":MAILTO:kontakt@bogensport-holzhausen.de
END:VEVENT
BEGIN:VEVENT
DTSTART;TZID=Europe/Berlin:20260322T100000
DTEND;TZID=Europe/Berlin:20260322T130000
DTSTAMP:20260421T153012
CREATED:20250905T083642Z
LAST-MODIFIED:20250905T083642Z
UID:4834-1774173600-1774184400@bogensport-holzhausen.de
SUMMARY:Jugend - und Leistungstraining
DESCRIPTION:
URL:https://bogensport-holzhausen.de/termin/jugend-und-leistungstraining-158/
LOCATION:Sporthalle Holzhausen\, Sutthauser Straße 27\, Georgsmarienhütte\, Niedersachsen\, 49124\, Deutschland
CATEGORIES:Training
ORGANIZER;CN="Bogensport Holzhausen":MAILTO:kontakt@bogensport-holzhausen.de
END:VEVENT
BEGIN:VEVENT
DTSTART;TZID=Europe/Berlin:20260326T200000
DTEND;TZID=Europe/Berlin:20260326T220000
DTSTAMP:20260421T153012
CREATED:20250905T083529Z
LAST-MODIFIED:20250905T083529Z
UID:4811-1774555200-1774562400@bogensport-holzhausen.de
SUMMARY:Jugend- und Erwachsenentraining
DESCRIPTION:
URL:https://bogensport-holzhausen.de/termin/jugend-und-erwachsenentraining-281/
LOCATION:Sporthalle Holzhausen\, Sutthauser Straße 27\, Georgsmarienhütte\, Niedersachsen\, 49124\, Deutschland
CATEGORIES:Training
ORGANIZER;CN="Bogensport Holzhausen":MAILTO:kontakt@bogensport-holzhausen.de
END:VEVENT
BEGIN:VEVENT
DTSTART;TZID=Europe/Berlin:20260328T110000
DTEND;TZID=Europe/Berlin:20260328T123000
DTSTAMP:20260421T153012
CREATED:20250905T083136Z
LAST-MODIFIED:20251023T202341Z
UID:4787-1774695600-1774701000@bogensport-holzhausen.de
SUMMARY:Schülertraining
DESCRIPTION:
URL:https://bogensport-holzhausen.de/termin/schuelertraining-167/
LOCATION:Sporthalle Holzhausen\, Sutthauser Straße 27\, Georgsmarienhütte\, Niedersachsen\, 49124\, Deutschland
CATEGORIES:Training
ORGANIZER;CN="Bogensport Holzhausen":MAILTO:kontakt@bogensport-holzhausen.de
END:VEVENT
BEGIN:VEVENT
DTSTART;TZID=Europe/Berlin:20260328T123000
DTEND;TZID=Europe/Berlin:20260328T133000
DTSTAMP:20260421T153012
CREATED:20251023T202336Z
LAST-MODIFIED:20251023T202336Z
UID:4912-1774701000-1774704600@bogensport-holzhausen.de
SUMMARY:Techniktraining
DESCRIPTION:
URL:https://bogensport-holzhausen.de/termin/schuelertraining-167-2/
LOCATION:Sporthalle Holzhausen\, Sutthauser Straße 27\, Georgsmarienhütte\, Niedersachsen\, 49124\, Deutschland
CATEGORIES:Training
ORGANIZER;CN="Bogensport Holzhausen":MAILTO:kontakt@bogensport-holzhausen.de
END:VEVENT
BEGIN:VEVENT
DTSTART;TZID=Europe/Berlin:20260329T100000
DTEND;TZID=Europe/Berlin:20260329T130000
DTSTAMP:20260421T153012
CREATED:20250905T083643Z
LAST-MODIFIED:20250905T083643Z
UID:4835-1774778400-1774789200@bogensport-holzhausen.de
SUMMARY:Jugend - und Leistungstraining
DESCRIPTION:
URL:https://bogensport-holzhausen.de/termin/jugend-und-leistungstraining-159/
LOCATION:Sporthalle Holzhausen\, Sutthauser Straße 27\, Georgsmarienhütte\, Niedersachsen\, 49124\, Deutschland
CATEGORIES:Training
ORGANIZER;CN="Bogensport Holzhausen":MAILTO:kontakt@bogensport-holzhausen.de
END:VEVENT
END:VCALENDAR