BEGIN:VCALENDAR
VERSION:2.0
PRODID:-//Bogensport Holzhausen - ECPv6.15.20//NONSGML v1.0//EN
CALSCALE:GREGORIAN
METHOD:PUBLISH
X-ORIGINAL-URL:https://bogensport-holzhausen.de
X-WR-CALDESC:Veranstaltungen für Bogensport Holzhausen
REFRESH-INTERVAL;VALUE=DURATION:PT1H
X-Robots-Tag:noindex
X-PUBLISHED-TTL:PT1H
BEGIN:VTIMEZONE
TZID:Europe/Berlin
BEGIN:DAYLIGHT
TZOFFSETFROM:+0100
TZOFFSETTO:+0200
TZNAME:CEST
DTSTART:20240331T010000
END:DAYLIGHT
BEGIN:STANDARD
TZOFFSETFROM:+0200
TZOFFSETTO:+0100
TZNAME:CET
DTSTART:20241027T010000
END:STANDARD
BEGIN:DAYLIGHT
TZOFFSETFROM:+0100
TZOFFSETTO:+0200
TZNAME:CEST
DTSTART:20250330T010000
END:DAYLIGHT
BEGIN:STANDARD
TZOFFSETFROM:+0200
TZOFFSETTO:+0100
TZNAME:CET
DTSTART:20251026T010000
END:STANDARD
BEGIN:DAYLIGHT
TZOFFSETFROM:+0100
TZOFFSETTO:+0200
TZNAME:CEST
DTSTART:20260329T010000
END:DAYLIGHT
BEGIN:STANDARD
TZOFFSETFROM:+0200
TZOFFSETTO:+0100
TZNAME:CET
DTSTART:20261025T010000
END:STANDARD
END:VTIMEZONE
BEGIN:VEVENT
DTSTART;TZID=Europe/Berlin:20251001T150000
DTEND;TZID=Europe/Berlin:20251001T173000
DTSTAMP:20260422T000238
CREATED:20250720T143753Z
LAST-MODIFIED:20250720T143753Z
UID:4746-1759330800-1759339800@bogensport-holzhausen.de
SUMMARY:Platz gesperrt
DESCRIPTION:
URL:https://bogensport-holzhausen.de/termin/platz-gesperrt-2-4-2-3-3-2/
LOCATION:Bogenplatz AdV\, Auf dem Volke\, Georgsmarienhütte\, Niedersachsen\, 49124\, Deutschland
CATEGORIES:kein Training
END:VEVENT
BEGIN:VEVENT
DTSTART;TZID=Europe/Berlin:20251002T200000
DTEND;TZID=Europe/Berlin:20251002T220000
DTSTAMP:20260422T000238
CREATED:20250905T083137Z
LAST-MODIFIED:20250905T083137Z
UID:4788-1759435200-1759442400@bogensport-holzhausen.de
SUMMARY:Jugend- und Erwachsenentraining
DESCRIPTION:
URL:https://bogensport-holzhausen.de/termin/jugend-und-erwachsenentraining-258/
LOCATION:Sporthalle Holzhausen\, Sutthauser Straße 27\, Georgsmarienhütte\, Niedersachsen\, 49124\, Deutschland
CATEGORIES:Training
ORGANIZER;CN="Bogensport Holzhausen":MAILTO:kontakt@bogensport-holzhausen.de
END:VEVENT
BEGIN:VEVENT
DTSTART;TZID=Europe/Berlin:20251004T110000
DTEND;TZID=Europe/Berlin:20251004T133000
DTSTAMP:20260422T000238
CREATED:20250905T082741Z
LAST-MODIFIED:20250905T082741Z
UID:4764-1759575600-1759584600@bogensport-holzhausen.de
SUMMARY:Schülertraining
DESCRIPTION:
URL:https://bogensport-holzhausen.de/termin/schuelertraining-144/
LOCATION:Sporthalle Holzhausen\, Sutthauser Straße 27\, Georgsmarienhütte\, Niedersachsen\, 49124\, Deutschland
CATEGORIES:Training
ORGANIZER;CN="Bogensport Holzhausen":MAILTO:kontakt@bogensport-holzhausen.de
END:VEVENT
BEGIN:VEVENT
DTSTART;TZID=Europe/Berlin:20251005T100000
DTEND;TZID=Europe/Berlin:20251005T130000
DTSTAMP:20260422T000238
CREATED:20250905T083530Z
LAST-MODIFIED:20250905T083530Z
UID:4812-1759658400-1759669200@bogensport-holzhausen.de
SUMMARY:Jugend - und Leistungstraining
DESCRIPTION:
URL:https://bogensport-holzhausen.de/termin/jugend-und-leistungstraining-136/
LOCATION:Sporthalle Holzhausen\, Sutthauser Straße 27\, Georgsmarienhütte\, Niedersachsen\, 49124\, Deutschland
CATEGORIES:Training
ORGANIZER;CN="Bogensport Holzhausen":MAILTO:kontakt@bogensport-holzhausen.de
END:VEVENT
BEGIN:VEVENT
DTSTART;TZID=Europe/Berlin:20251009T200000
DTEND;TZID=Europe/Berlin:20251009T220000
DTSTAMP:20260422T000238
CREATED:20250905T083212Z
LAST-MODIFIED:20250905T083212Z
UID:4789-1760040000-1760047200@bogensport-holzhausen.de
SUMMARY:Jugend- und Erwachsenentraining
DESCRIPTION:
URL:https://bogensport-holzhausen.de/termin/jugend-und-erwachsenentraining-259/
LOCATION:Sporthalle Holzhausen\, Sutthauser Straße 27\, Georgsmarienhütte\, Niedersachsen\, 49124\, Deutschland
CATEGORIES:Training
ORGANIZER;CN="Bogensport Holzhausen":MAILTO:kontakt@bogensport-holzhausen.de
END:VEVENT
BEGIN:VEVENT
DTSTART;TZID=Europe/Berlin:20251011T110000
DTEND;TZID=Europe/Berlin:20251011T133000
DTSTAMP:20260422T000238
CREATED:20250905T082743Z
LAST-MODIFIED:20250905T082743Z
UID:4765-1760180400-1760189400@bogensport-holzhausen.de
SUMMARY:Schülertraining
DESCRIPTION:
URL:https://bogensport-holzhausen.de/termin/schuelertraining-145/
LOCATION:Sporthalle Holzhausen\, Sutthauser Straße 27\, Georgsmarienhütte\, Niedersachsen\, 49124\, Deutschland
CATEGORIES:Training
ORGANIZER;CN="Bogensport Holzhausen":MAILTO:kontakt@bogensport-holzhausen.de
END:VEVENT
BEGIN:VEVENT
DTSTART;TZID=Europe/Berlin:20251012T100000
DTEND;TZID=Europe/Berlin:20251012T130000
DTSTAMP:20260422T000238
CREATED:20250905T083531Z
LAST-MODIFIED:20250905T083531Z
UID:4813-1760263200-1760274000@bogensport-holzhausen.de
SUMMARY:Jugend - und Leistungstraining
DESCRIPTION:
URL:https://bogensport-holzhausen.de/termin/jugend-und-leistungstraining-137/
LOCATION:Sporthalle Holzhausen\, Sutthauser Straße 27\, Georgsmarienhütte\, Niedersachsen\, 49124\, Deutschland
CATEGORIES:Training
ORGANIZER;CN="Bogensport Holzhausen":MAILTO:kontakt@bogensport-holzhausen.de
END:VEVENT
BEGIN:VEVENT
DTSTART;TZID=Europe/Berlin:20251016T200000
DTEND;TZID=Europe/Berlin:20251016T220000
DTSTAMP:20260422T000238
CREATED:20250905T083213Z
LAST-MODIFIED:20250905T083213Z
UID:4790-1760644800-1760652000@bogensport-holzhausen.de
SUMMARY:Jugend- und Erwachsenentraining
DESCRIPTION:
URL:https://bogensport-holzhausen.de/termin/jugend-und-erwachsenentraining-260/
LOCATION:Sporthalle Holzhausen\, Sutthauser Straße 27\, Georgsmarienhütte\, Niedersachsen\, 49124\, Deutschland
CATEGORIES:Training
ORGANIZER;CN="Bogensport Holzhausen":MAILTO:kontakt@bogensport-holzhausen.de
END:VEVENT
BEGIN:VEVENT
DTSTART;TZID=Europe/Berlin:20251018T110000
DTEND;TZID=Europe/Berlin:20251018T133000
DTSTAMP:20260422T000238
CREATED:20250905T082744Z
LAST-MODIFIED:20250905T082744Z
UID:4766-1760785200-1760794200@bogensport-holzhausen.de
SUMMARY:Schülertraining
DESCRIPTION:
URL:https://bogensport-holzhausen.de/termin/schuelertraining-146/
LOCATION:Sporthalle Holzhausen\, Sutthauser Straße 27\, Georgsmarienhütte\, Niedersachsen\, 49124\, Deutschland
CATEGORIES:Training
ORGANIZER;CN="Bogensport Holzhausen":MAILTO:kontakt@bogensport-holzhausen.de
END:VEVENT
BEGIN:VEVENT
DTSTART;TZID=Europe/Berlin:20251019T100000
DTEND;TZID=Europe/Berlin:20251019T130000
DTSTAMP:20260422T000238
CREATED:20250905T083543Z
LAST-MODIFIED:20250905T083543Z
UID:4814-1760868000-1760878800@bogensport-holzhausen.de
SUMMARY:Jugend - und Leistungstraining
DESCRIPTION:
URL:https://bogensport-holzhausen.de/termin/jugend-und-leistungstraining-138/
LOCATION:Sporthalle Holzhausen\, Sutthauser Straße 27\, Georgsmarienhütte\, Niedersachsen\, 49124\, Deutschland
CATEGORIES:Training
ORGANIZER;CN="Bogensport Holzhausen":MAILTO:kontakt@bogensport-holzhausen.de
END:VEVENT
BEGIN:VEVENT
DTSTART;TZID=Europe/Berlin:20251023T200000
DTEND;TZID=Europe/Berlin:20251023T220000
DTSTAMP:20260422T000238
CREATED:20250905T083214Z
LAST-MODIFIED:20250905T083214Z
UID:4791-1761249600-1761256800@bogensport-holzhausen.de
SUMMARY:Jugend- und Erwachsenentraining
DESCRIPTION:
URL:https://bogensport-holzhausen.de/termin/jugend-und-erwachsenentraining-261/
LOCATION:Sporthalle Holzhausen\, Sutthauser Straße 27\, Georgsmarienhütte\, Niedersachsen\, 49124\, Deutschland
CATEGORIES:Training
ORGANIZER;CN="Bogensport Holzhausen":MAILTO:kontakt@bogensport-holzhausen.de
END:VEVENT
BEGIN:VEVENT
DTSTART;TZID=Europe/Berlin:20251025T110000
DTEND;TZID=Europe/Berlin:20251025T123000
DTSTAMP:20260422T000238
CREATED:20250905T082745Z
LAST-MODIFIED:20251023T201812Z
UID:4767-1761390000-1761395400@bogensport-holzhausen.de
SUMMARY:Schülertraining
DESCRIPTION:
URL:https://bogensport-holzhausen.de/termin/schuelertraining-147-2/
LOCATION:Sporthalle Holzhausen\, Sutthauser Straße 27\, Georgsmarienhütte\, Niedersachsen\, 49124\, Deutschland
CATEGORIES:Training
ORGANIZER;CN="Bogensport Holzhausen":MAILTO:kontakt@bogensport-holzhausen.de
END:VEVENT
BEGIN:VEVENT
DTSTART;TZID=Europe/Berlin:20251025T123000
DTEND;TZID=Europe/Berlin:20251025T133000
DTSTAMP:20260422T000238
CREATED:20251023T201815Z
LAST-MODIFIED:20251023T201815Z
UID:4895-1761395400-1761399000@bogensport-holzhausen.de
SUMMARY:Techniktraining
DESCRIPTION:
URL:https://bogensport-holzhausen.de/termin/schuelertraining-147/
LOCATION:Sporthalle Holzhausen\, Sutthauser Straße 27\, Georgsmarienhütte\, Niedersachsen\, 49124\, Deutschland
CATEGORIES:Training
ORGANIZER;CN="Bogensport Holzhausen":MAILTO:kontakt@bogensport-holzhausen.de
END:VEVENT
BEGIN:VEVENT
DTSTART;TZID=Europe/Berlin:20251026T100000
DTEND;TZID=Europe/Berlin:20251026T130000
DTSTAMP:20260422T000238
CREATED:20250905T083543Z
LAST-MODIFIED:20250905T083543Z
UID:4815-1761472800-1761483600@bogensport-holzhausen.de
SUMMARY:Jugend - und Leistungstraining
DESCRIPTION:
URL:https://bogensport-holzhausen.de/termin/jugend-und-leistungstraining-139/
LOCATION:Sporthalle Holzhausen\, Sutthauser Straße 27\, Georgsmarienhütte\, Niedersachsen\, 49124\, Deutschland
CATEGORIES:Training
ORGANIZER;CN="Bogensport Holzhausen":MAILTO:kontakt@bogensport-holzhausen.de
END:VEVENT
BEGIN:VEVENT
DTSTART;TZID=Europe/Berlin:20251030T200000
DTEND;TZID=Europe/Berlin:20251030T220000
DTSTAMP:20260422T000238
CREATED:20250905T083215Z
LAST-MODIFIED:20250905T083215Z
UID:4792-1761854400-1761861600@bogensport-holzhausen.de
SUMMARY:Jugend- und Erwachsenentraining
DESCRIPTION:
URL:https://bogensport-holzhausen.de/termin/jugend-und-erwachsenentraining-262/
LOCATION:Sporthalle Holzhausen\, Sutthauser Straße 27\, Georgsmarienhütte\, Niedersachsen\, 49124\, Deutschland
CATEGORIES:Training
ORGANIZER;CN="Bogensport Holzhausen":MAILTO:kontakt@bogensport-holzhausen.de
END:VEVENT
END:VCALENDAR