BEGIN:VCALENDAR
VERSION:2.0
PRODID:-//Bogensport Holzhausen - ECPv6.15.20//NONSGML v1.0//EN
CALSCALE:GREGORIAN
METHOD:PUBLISH
X-ORIGINAL-URL:https://bogensport-holzhausen.de
X-WR-CALDESC:Veranstaltungen für Bogensport Holzhausen
REFRESH-INTERVAL;VALUE=DURATION:PT1H
X-Robots-Tag:noindex
X-PUBLISHED-TTL:PT1H
BEGIN:VTIMEZONE
TZID:Europe/Berlin
BEGIN:DAYLIGHT
TZOFFSETFROM:+0100
TZOFFSETTO:+0200
TZNAME:CEST
DTSTART:20240331T010000
END:DAYLIGHT
BEGIN:STANDARD
TZOFFSETFROM:+0200
TZOFFSETTO:+0100
TZNAME:CET
DTSTART:20241027T010000
END:STANDARD
BEGIN:DAYLIGHT
TZOFFSETFROM:+0100
TZOFFSETTO:+0200
TZNAME:CEST
DTSTART:20250330T010000
END:DAYLIGHT
BEGIN:STANDARD
TZOFFSETFROM:+0200
TZOFFSETTO:+0100
TZNAME:CET
DTSTART:20251026T010000
END:STANDARD
BEGIN:DAYLIGHT
TZOFFSETFROM:+0100
TZOFFSETTO:+0200
TZNAME:CEST
DTSTART:20260329T010000
END:DAYLIGHT
BEGIN:STANDARD
TZOFFSETFROM:+0200
TZOFFSETTO:+0100
TZNAME:CET
DTSTART:20261025T010000
END:STANDARD
END:VTIMEZONE
BEGIN:VEVENT
DTSTART;TZID=Europe/Berlin:20250901T180000
DTEND;TZID=Europe/Berlin:20250901T193000
DTSTAMP:20260422T015555
CREATED:20250131T205039Z
LAST-MODIFIED:20250131T205039Z
UID:4373-1756749600-1756755000@bogensport-holzhausen.de
SUMMARY:Einsteigerkurs 2
DESCRIPTION:
URL:https://bogensport-holzhausen.de/termin/einsteigerkurs-2-5/
LOCATION:Bogenplatz AdV\, Auf dem Volke\, Georgsmarienhütte\, Niedersachsen\, 49124\, Deutschland
CATEGORIES:Training
ORGANIZER;CN="Bogensport Holzhausen":MAILTO:kontakt@bogensport-holzhausen.de
END:VEVENT
BEGIN:VEVENT
DTSTART;TZID=Europe/Berlin:20250902T173000
DTEND;TZID=Europe/Berlin:20250902T190000
DTSTAMP:20260422T015555
CREATED:20250705T192915Z
LAST-MODIFIED:20250705T192915Z
UID:4702-1756834200-1756839600@bogensport-holzhausen.de
SUMMARY:Jugend- und Erwachsenentraining
DESCRIPTION:
URL:https://bogensport-holzhausen.de/termin/jugend-und-erwachsenentraining-253/
LOCATION:Bogenplatz AdV\, Auf dem Volke\, Georgsmarienhütte\, Niedersachsen\, 49124\, Deutschland
CATEGORIES:Training
ORGANIZER;CN="Bogensport Holzhausen":MAILTO:kontakt@bogensport-holzhausen.de
END:VEVENT
BEGIN:VEVENT
DTSTART;TZID=Europe/Berlin:20250903T150000
DTEND;TZID=Europe/Berlin:20250903T173000
DTSTAMP:20260422T015555
CREATED:20250720T143129Z
LAST-MODIFIED:20250720T143608Z
UID:4738-1756911600-1756920600@bogensport-holzhausen.de
SUMMARY:Platz gesperrt
DESCRIPTION:
URL:https://bogensport-holzhausen.de/termin/platz-gesperrt-2-4-2-2/
LOCATION:Bogenplatz AdV\, Auf dem Volke\, Georgsmarienhütte\, Niedersachsen\, 49124\, Deutschland
CATEGORIES:kein Training
END:VEVENT
BEGIN:VEVENT
DTSTART;TZID=Europe/Berlin:20250904T173000
DTEND;TZID=Europe/Berlin:20250904T190000
DTSTAMP:20260422T015555
CREATED:20250705T192842Z
LAST-MODIFIED:20250705T192842Z
UID:4690-1757007000-1757012400@bogensport-holzhausen.de
SUMMARY:Jugend- und Erwachsenentraining
DESCRIPTION:
URL:https://bogensport-holzhausen.de/termin/jugend-und-erwachsenentraining-241/
LOCATION:Bogenplatz AdV\, Auf dem Volke\, Georgsmarienhütte\, Niedersachsen\, 49124\, Deutschland
CATEGORIES:Training
ORGANIZER;CN="Bogensport Holzhausen":MAILTO:kontakt@bogensport-holzhausen.de
END:VEVENT
BEGIN:VEVENT
DTSTART;TZID=Europe/Berlin:20250906T110000
DTEND;TZID=Europe/Berlin:20250906T123000
DTSTAMP:20260422T015555
CREATED:20250705T192800Z
LAST-MODIFIED:20250705T192800Z
UID:4678-1757156400-1757161800@bogensport-holzhausen.de
SUMMARY:Schülertraining
DESCRIPTION:
URL:https://bogensport-holzhausen.de/termin/schuelertraining-140/
LOCATION:Bogenplatz AdV\, Auf dem Volke\, Georgsmarienhütte\, Niedersachsen\, 49124\, Deutschland
CATEGORIES:Training
ORGANIZER;CN="Bogensport Holzhausen":MAILTO:kontakt@bogensport-holzhausen.de
END:VEVENT
BEGIN:VEVENT
DTSTART;TZID=Europe/Berlin:20250907T100000
DTEND;TZID=Europe/Berlin:20250907T120000
DTSTAMP:20260422T015555
CREATED:20250705T192958Z
LAST-MODIFIED:20250705T192958Z
UID:4716-1757239200-1757246400@bogensport-holzhausen.de
SUMMARY:Jugend - und Leistungstraining
DESCRIPTION:
URL:https://bogensport-holzhausen.de/termin/jugend-und-leistungstraining-132/
LOCATION:Bogenplatz AdV\, Auf dem Volke\, Georgsmarienhütte\, Niedersachsen\, 49124\, Deutschland
CATEGORIES:Training
ORGANIZER;CN="Bogensport Holzhausen":MAILTO:kontakt@bogensport-holzhausen.de
END:VEVENT
BEGIN:VEVENT
DTSTART;TZID=Europe/Berlin:20250908T180000
DTEND;TZID=Europe/Berlin:20250908T193000
DTSTAMP:20260422T015555
CREATED:20250131T205040Z
LAST-MODIFIED:20250131T205040Z
UID:4374-1757354400-1757359800@bogensport-holzhausen.de
SUMMARY:Einsteigerkurs 2
DESCRIPTION:
URL:https://bogensport-holzhausen.de/termin/einsteigerkurs-2-6/
LOCATION:Bogenplatz AdV\, Auf dem Volke\, Georgsmarienhütte\, Niedersachsen\, 49124\, Deutschland
CATEGORIES:Training
ORGANIZER;CN="Bogensport Holzhausen":MAILTO:kontakt@bogensport-holzhausen.de
END:VEVENT
BEGIN:VEVENT
DTSTART;TZID=Europe/Berlin:20250909T173000
DTEND;TZID=Europe/Berlin:20250909T190000
DTSTAMP:20260422T015555
CREATED:20250705T192916Z
LAST-MODIFIED:20250705T192916Z
UID:4703-1757439000-1757444400@bogensport-holzhausen.de
SUMMARY:Jugend- und Erwachsenentraining
DESCRIPTION:
URL:https://bogensport-holzhausen.de/termin/jugend-und-erwachsenentraining-254/
LOCATION:Bogenplatz AdV\, Auf dem Volke\, Georgsmarienhütte\, Niedersachsen\, 49124\, Deutschland
CATEGORIES:Training
ORGANIZER;CN="Bogensport Holzhausen":MAILTO:kontakt@bogensport-holzhausen.de
END:VEVENT
BEGIN:VEVENT
DTSTART;TZID=Europe/Berlin:20250910T150000
DTEND;TZID=Europe/Berlin:20250910T173000
DTSTAMP:20260422T015555
CREATED:20250720T143148Z
LAST-MODIFIED:20250720T143557Z
UID:4739-1757516400-1757525400@bogensport-holzhausen.de
SUMMARY:Platz gesperrt
DESCRIPTION:
URL:https://bogensport-holzhausen.de/termin/platz-gesperrt-2-4-2-3/
LOCATION:Bogenplatz AdV\, Auf dem Volke\, Georgsmarienhütte\, Niedersachsen\, 49124\, Deutschland
CATEGORIES:kein Training
END:VEVENT
BEGIN:VEVENT
DTSTART;TZID=Europe/Berlin:20250911T173000
DTEND;TZID=Europe/Berlin:20250911T190000
DTSTAMP:20260422T015555
CREATED:20250705T192843Z
LAST-MODIFIED:20250705T192843Z
UID:4691-1757611800-1757617200@bogensport-holzhausen.de
SUMMARY:Jugend- und Erwachsenentraining
DESCRIPTION:
URL:https://bogensport-holzhausen.de/termin/jugend-und-erwachsenentraining-242/
LOCATION:Bogenplatz AdV\, Auf dem Volke\, Georgsmarienhütte\, Niedersachsen\, 49124\, Deutschland
CATEGORIES:Training
ORGANIZER;CN="Bogensport Holzhausen":MAILTO:kontakt@bogensport-holzhausen.de
END:VEVENT
BEGIN:VEVENT
DTSTART;TZID=Europe/Berlin:20250913T110000
DTEND;TZID=Europe/Berlin:20250913T123000
DTSTAMP:20260422T015555
CREATED:20250705T192801Z
LAST-MODIFIED:20250705T192801Z
UID:4679-1757761200-1757766600@bogensport-holzhausen.de
SUMMARY:Schülertraining
DESCRIPTION:
URL:https://bogensport-holzhausen.de/termin/schuelertraining-141/
LOCATION:Bogenplatz AdV\, Auf dem Volke\, Georgsmarienhütte\, Niedersachsen\, 49124\, Deutschland
CATEGORIES:Training
ORGANIZER;CN="Bogensport Holzhausen":MAILTO:kontakt@bogensport-holzhausen.de
END:VEVENT
BEGIN:VEVENT
DTSTART;TZID=Europe/Berlin:20250914T100000
DTEND;TZID=Europe/Berlin:20250914T120000
DTSTAMP:20260422T015555
CREATED:20250705T192959Z
LAST-MODIFIED:20250705T192959Z
UID:4717-1757844000-1757851200@bogensport-holzhausen.de
SUMMARY:Jugend - und Leistungstraining
DESCRIPTION:
URL:https://bogensport-holzhausen.de/termin/jugend-und-leistungstraining-133/
LOCATION:Bogenplatz AdV\, Auf dem Volke\, Georgsmarienhütte\, Niedersachsen\, 49124\, Deutschland
CATEGORIES:Training
ORGANIZER;CN="Bogensport Holzhausen":MAILTO:kontakt@bogensport-holzhausen.de
END:VEVENT
BEGIN:VEVENT
DTSTART;TZID=Europe/Berlin:20250915T180000
DTEND;TZID=Europe/Berlin:20250915T193000
DTSTAMP:20260422T015555
CREATED:20250131T205041Z
LAST-MODIFIED:20250131T205041Z
UID:4375-1757959200-1757964600@bogensport-holzhausen.de
SUMMARY:Einsteigerkurs 2
DESCRIPTION:
URL:https://bogensport-holzhausen.de/termin/einsteigerkurs-2-7/
LOCATION:Bogenplatz AdV\, Auf dem Volke\, Georgsmarienhütte\, Niedersachsen\, 49124\, Deutschland
CATEGORIES:Training
ORGANIZER;CN="Bogensport Holzhausen":MAILTO:kontakt@bogensport-holzhausen.de
END:VEVENT
BEGIN:VEVENT
DTSTART;TZID=Europe/Berlin:20250916T173000
DTEND;TZID=Europe/Berlin:20250916T190000
DTSTAMP:20260422T015555
CREATED:20250705T192917Z
LAST-MODIFIED:20250705T192917Z
UID:4704-1758043800-1758049200@bogensport-holzhausen.de
SUMMARY:Jugend- und Erwachsenentraining
DESCRIPTION:
URL:https://bogensport-holzhausen.de/termin/jugend-und-erwachsenentraining-255/
LOCATION:Bogenplatz AdV\, Auf dem Volke\, Georgsmarienhütte\, Niedersachsen\, 49124\, Deutschland
CATEGORIES:Training
ORGANIZER;CN="Bogensport Holzhausen":MAILTO:kontakt@bogensport-holzhausen.de
END:VEVENT
BEGIN:VEVENT
DTSTART;TZID=Europe/Berlin:20250917T150000
DTEND;TZID=Europe/Berlin:20250917T173000
DTSTAMP:20260422T015555
CREATED:20250720T143231Z
LAST-MODIFIED:20250720T143544Z
UID:4742-1758121200-1758130200@bogensport-holzhausen.de
SUMMARY:Platz gesperrt
DESCRIPTION:
URL:https://bogensport-holzhausen.de/termin/platz-gesperrt-2-4-2-3-2/
LOCATION:Bogenplatz AdV\, Auf dem Volke\, Georgsmarienhütte\, Niedersachsen\, 49124\, Deutschland
CATEGORIES:kein Training
END:VEVENT
BEGIN:VEVENT
DTSTART;TZID=Europe/Berlin:20250918T173000
DTEND;TZID=Europe/Berlin:20250918T190000
DTSTAMP:20260422T015555
CREATED:20250705T192844Z
LAST-MODIFIED:20250705T192844Z
UID:4692-1758216600-1758222000@bogensport-holzhausen.de
SUMMARY:Jugend- und Erwachsenentraining
DESCRIPTION:
URL:https://bogensport-holzhausen.de/termin/jugend-und-erwachsenentraining-243/
LOCATION:Bogenplatz AdV\, Auf dem Volke\, Georgsmarienhütte\, Niedersachsen\, 49124\, Deutschland
CATEGORIES:Training
ORGANIZER;CN="Bogensport Holzhausen":MAILTO:kontakt@bogensport-holzhausen.de
END:VEVENT
BEGIN:VEVENT
DTSTART;TZID=Europe/Berlin:20250920T110000
DTEND;TZID=Europe/Berlin:20250920T123000
DTSTAMP:20260422T015555
CREATED:20250705T192812Z
LAST-MODIFIED:20250705T192812Z
UID:4680-1758366000-1758371400@bogensport-holzhausen.de
SUMMARY:Schülertraining
DESCRIPTION:
URL:https://bogensport-holzhausen.de/termin/schuelertraining-142/
LOCATION:Bogenplatz AdV\, Auf dem Volke\, Georgsmarienhütte\, Niedersachsen\, 49124\, Deutschland
CATEGORIES:Training
ORGANIZER;CN="Bogensport Holzhausen":MAILTO:kontakt@bogensport-holzhausen.de
END:VEVENT
BEGIN:VEVENT
DTSTART;TZID=Europe/Berlin:20250921T100000
DTEND;TZID=Europe/Berlin:20250921T120000
DTSTAMP:20260422T015555
CREATED:20250705T193000Z
LAST-MODIFIED:20250919T110534Z
UID:4718-1758448800-1758456000@bogensport-holzhausen.de
SUMMARY:Jugend - und Leistungstraining
DESCRIPTION:
URL:https://bogensport-holzhausen.de/termin/jugend-und-leistungstraining-134/
LOCATION:Bogenplatz AdV\, Auf dem Volke\, Georgsmarienhütte\, Niedersachsen\, 49124\, Deutschland
CATEGORIES:Training
ORGANIZER;CN="Bogensport Holzhausen":MAILTO:kontakt@bogensport-holzhausen.de
END:VEVENT
BEGIN:VEVENT
DTSTART;TZID=Europe/Berlin:20250923T173000
DTEND;TZID=Europe/Berlin:20250923T190000
DTSTAMP:20260422T015555
CREATED:20250705T192929Z
LAST-MODIFIED:20250705T192929Z
UID:4705-1758648600-1758654000@bogensport-holzhausen.de
SUMMARY:Jugend- und Erwachsenentraining
DESCRIPTION:
URL:https://bogensport-holzhausen.de/termin/jugend-und-erwachsenentraining-256/
LOCATION:Bogenplatz AdV\, Auf dem Volke\, Georgsmarienhütte\, Niedersachsen\, 49124\, Deutschland
CATEGORIES:Training
ORGANIZER;CN="Bogensport Holzhausen":MAILTO:kontakt@bogensport-holzhausen.de
END:VEVENT
BEGIN:VEVENT
DTSTART;TZID=Europe/Berlin:20250924T150000
DTEND;TZID=Europe/Berlin:20250924T173000
DTSTAMP:20260422T015555
CREATED:20250720T143259Z
LAST-MODIFIED:20250720T143531Z
UID:4744-1758726000-1758735000@bogensport-holzhausen.de
SUMMARY:Platz gesperrt
DESCRIPTION:
URL:https://bogensport-holzhausen.de/termin/platz-gesperrt-2-4-2-3-3/
LOCATION:Bogenplatz AdV\, Auf dem Volke\, Georgsmarienhütte\, Niedersachsen\, 49124\, Deutschland
CATEGORIES:kein Training
END:VEVENT
BEGIN:VEVENT
DTSTART;TZID=Europe/Berlin:20250925T173000
DTEND;TZID=Europe/Berlin:20250925T190000
DTSTAMP:20260422T015555
CREATED:20250705T192845Z
LAST-MODIFIED:20250705T192845Z
UID:4693-1758821400-1758826800@bogensport-holzhausen.de
SUMMARY:Jugend- und Erwachsenentraining
DESCRIPTION:
URL:https://bogensport-holzhausen.de/termin/jugend-und-erwachsenentraining-244/
LOCATION:Bogenplatz AdV\, Auf dem Volke\, Georgsmarienhütte\, Niedersachsen\, 49124\, Deutschland
CATEGORIES:Training
ORGANIZER;CN="Bogensport Holzhausen":MAILTO:kontakt@bogensport-holzhausen.de
END:VEVENT
BEGIN:VEVENT
DTSTART;TZID=Europe/Berlin:20250927T110000
DTEND;TZID=Europe/Berlin:20250927T123000
DTSTAMP:20260422T015555
CREATED:20250705T192813Z
LAST-MODIFIED:20250816T180046Z
UID:4681-1758970800-1758976200@bogensport-holzhausen.de
SUMMARY:Schülertraining
DESCRIPTION:
URL:https://bogensport-holzhausen.de/termin/schuelertraining-143/
LOCATION:Bogenplatz AdV\, Auf dem Volke\, Georgsmarienhütte\, Niedersachsen\, 49124\, Deutschland
CATEGORIES:Training
ORGANIZER;CN="Bogensport Holzhausen":MAILTO:kontakt@bogensport-holzhausen.de
END:VEVENT
BEGIN:VEVENT
DTSTART;TZID=Europe/Berlin:20250927T140000
DTEND;TZID=Europe/Berlin:20250927T160000
DTSTAMP:20260422T015555
CREATED:20250816T180019Z
LAST-MODIFIED:20250816T180019Z
UID:4755-1758981600-1758988800@bogensport-holzhausen.de
SUMMARY:Cloutschießen
DESCRIPTION:
URL:https://bogensport-holzhausen.de/termin/cloutschiessen-2/
LOCATION:Mühlenweg 5\, 49205 Hasbergen\, Mühlenweg 5\, Hasbergen\, 49205\, Germany
END:VEVENT
BEGIN:VEVENT
DTSTART;TZID=Europe/Berlin:20250928T100000
DTEND;TZID=Europe/Berlin:20250928T120000
DTSTAMP:20260422T015555
CREATED:20250705T193001Z
LAST-MODIFIED:20250705T193001Z
UID:4719-1759053600-1759060800@bogensport-holzhausen.de
SUMMARY:Jugend - und Leistungstraining
DESCRIPTION:
URL:https://bogensport-holzhausen.de/termin/jugend-und-leistungstraining-135/
LOCATION:Bogenplatz AdV\, Auf dem Volke\, Georgsmarienhütte\, Niedersachsen\, 49124\, Deutschland
CATEGORIES:Training
ORGANIZER;CN="Bogensport Holzhausen":MAILTO:kontakt@bogensport-holzhausen.de
END:VEVENT
BEGIN:VEVENT
DTSTART;TZID=Europe/Berlin:20250930T173000
DTEND;TZID=Europe/Berlin:20250930T190000
DTSTAMP:20260422T015555
CREATED:20250705T192929Z
LAST-MODIFIED:20250705T192929Z
UID:4706-1759253400-1759258800@bogensport-holzhausen.de
SUMMARY:Jugend- und Erwachsenentraining
DESCRIPTION:
URL:https://bogensport-holzhausen.de/termin/jugend-und-erwachsenentraining-257/
LOCATION:Bogenplatz AdV\, Auf dem Volke\, Georgsmarienhütte\, Niedersachsen\, 49124\, Deutschland
CATEGORIES:Training
ORGANIZER;CN="Bogensport Holzhausen":MAILTO:kontakt@bogensport-holzhausen.de
END:VEVENT
END:VCALENDAR