BEGIN:VCALENDAR
VERSION:2.0
PRODID:-//Bogensport Holzhausen - ECPv6.15.20//NONSGML v1.0//EN
CALSCALE:GREGORIAN
METHOD:PUBLISH
X-ORIGINAL-URL:https://bogensport-holzhausen.de
X-WR-CALDESC:Veranstaltungen für Bogensport Holzhausen
REFRESH-INTERVAL;VALUE=DURATION:PT1H
X-Robots-Tag:noindex
X-PUBLISHED-TTL:PT1H
BEGIN:VTIMEZONE
TZID:Europe/Berlin
BEGIN:DAYLIGHT
TZOFFSETFROM:+0100
TZOFFSETTO:+0200
TZNAME:CEST
DTSTART:20240331T010000
END:DAYLIGHT
BEGIN:STANDARD
TZOFFSETFROM:+0200
TZOFFSETTO:+0100
TZNAME:CET
DTSTART:20241027T010000
END:STANDARD
BEGIN:DAYLIGHT
TZOFFSETFROM:+0100
TZOFFSETTO:+0200
TZNAME:CEST
DTSTART:20250330T010000
END:DAYLIGHT
BEGIN:STANDARD
TZOFFSETFROM:+0200
TZOFFSETTO:+0100
TZNAME:CET
DTSTART:20251026T010000
END:STANDARD
BEGIN:DAYLIGHT
TZOFFSETFROM:+0100
TZOFFSETTO:+0200
TZNAME:CEST
DTSTART:20260329T010000
END:DAYLIGHT
BEGIN:STANDARD
TZOFFSETFROM:+0200
TZOFFSETTO:+0100
TZNAME:CET
DTSTART:20261025T010000
END:STANDARD
END:VTIMEZONE
BEGIN:VEVENT
DTSTART;TZID=Europe/Berlin:20250706T100000
DTEND;TZID=Europe/Berlin:20250706T120000
DTSTAMP:20260422T053728
CREATED:20250705T192930Z
LAST-MODIFIED:20250705T192930Z
UID:4707-1751796000-1751803200@bogensport-holzhausen.de
SUMMARY:Jugend - und Leistungstraining
DESCRIPTION:
URL:https://bogensport-holzhausen.de/termin/jugend-und-leistungstraining-123/
LOCATION:Bogenplatz AdV\, Auf dem Volke\, Georgsmarienhütte\, Niedersachsen\, 49124\, Deutschland
CATEGORIES:Training
ORGANIZER;CN="Bogensport Holzhausen":MAILTO:kontakt@bogensport-holzhausen.de
END:VEVENT
BEGIN:VEVENT
DTSTART;TZID=Europe/Berlin:20250707T160000
DTEND;TZID=Europe/Berlin:20250707T173000
DTSTAMP:20260422T053728
CREATED:20250131T205041Z
LAST-MODIFIED:20250131T205041Z
UID:4376-1751904000-1751909400@bogensport-holzhausen.de
SUMMARY:Ferienpass
DESCRIPTION:
URL:https://bogensport-holzhausen.de/termin/ferienpass-5/
LOCATION:Bogenplatz AdV\, Auf dem Volke\, Georgsmarienhütte\, Niedersachsen\, 49124\, Deutschland
CATEGORIES:Training
ORGANIZER;CN="Bogensport Holzhausen":MAILTO:kontakt@bogensport-holzhausen.de
END:VEVENT
BEGIN:VEVENT
DTSTART;TZID=Europe/Berlin:20250708T173000
DTEND;TZID=Europe/Berlin:20250708T190000
DTSTAMP:20260422T053728
CREATED:20250705T192846Z
LAST-MODIFIED:20250705T192846Z
UID:4694-1751995800-1752001200@bogensport-holzhausen.de
SUMMARY:Jugend- und Erwachsenentraining
DESCRIPTION:
URL:https://bogensport-holzhausen.de/termin/jugend-und-erwachsenentraining-245/
LOCATION:Bogenplatz AdV\, Auf dem Volke\, Georgsmarienhütte\, Niedersachsen\, 49124\, Deutschland
CATEGORIES:Training
ORGANIZER;CN="Bogensport Holzhausen":MAILTO:kontakt@bogensport-holzhausen.de
END:VEVENT
BEGIN:VEVENT
DTSTART;TZID=Europe/Berlin:20250710T173000
DTEND;TZID=Europe/Berlin:20250710T190000
DTSTAMP:20260422T053728
CREATED:20250705T192814Z
LAST-MODIFIED:20250705T192814Z
UID:4682-1752168600-1752174000@bogensport-holzhausen.de
SUMMARY:Jugend- und Erwachsenentraining
DESCRIPTION:
URL:https://bogensport-holzhausen.de/termin/jugend-und-erwachsenentraining-233/
LOCATION:Bogenplatz AdV\, Auf dem Volke\, Georgsmarienhütte\, Niedersachsen\, 49124\, Deutschland
CATEGORIES:Training
ORGANIZER;CN="Bogensport Holzhausen":MAILTO:kontakt@bogensport-holzhausen.de
END:VEVENT
BEGIN:VEVENT
DTSTART;TZID=Europe/Berlin:20250712T110000
DTEND;TZID=Europe/Berlin:20250712T123000
DTSTAMP:20260422T053728
CREATED:20250705T192752Z
LAST-MODIFIED:20250705T192752Z
UID:4670-1752318000-1752323400@bogensport-holzhausen.de
SUMMARY:Schülertraining
DESCRIPTION:
URL:https://bogensport-holzhausen.de/termin/schuelertraining-132/
LOCATION:Bogenplatz AdV\, Auf dem Volke\, Georgsmarienhütte\, Niedersachsen\, 49124\, Deutschland
CATEGORIES:Training
ORGANIZER;CN="Bogensport Holzhausen":MAILTO:kontakt@bogensport-holzhausen.de
END:VEVENT
BEGIN:VEVENT
DTSTART;TZID=Europe/Berlin:20250713T100000
DTEND;TZID=Europe/Berlin:20250713T120000
DTSTAMP:20260422T053728
CREATED:20250705T192931Z
LAST-MODIFIED:20250705T192931Z
UID:4708-1752400800-1752408000@bogensport-holzhausen.de
SUMMARY:Jugend - und Leistungstraining
DESCRIPTION:
URL:https://bogensport-holzhausen.de/termin/jugend-und-leistungstraining-124/
LOCATION:Bogenplatz AdV\, Auf dem Volke\, Georgsmarienhütte\, Niedersachsen\, 49124\, Deutschland
CATEGORIES:Training
ORGANIZER;CN="Bogensport Holzhausen":MAILTO:kontakt@bogensport-holzhausen.de
END:VEVENT
BEGIN:VEVENT
DTSTART;TZID=Europe/Berlin:20250714T160000
DTEND;TZID=Europe/Berlin:20250714T173000
DTSTAMP:20260422T053728
CREATED:20250131T205042Z
LAST-MODIFIED:20250131T205042Z
UID:4377-1752508800-1752514200@bogensport-holzhausen.de
SUMMARY:Ferienpass
DESCRIPTION:
URL:https://bogensport-holzhausen.de/termin/ferienpass-6/
LOCATION:Bogenplatz AdV\, Auf dem Volke\, Georgsmarienhütte\, Niedersachsen\, 49124\, Deutschland
CATEGORIES:Training
ORGANIZER;CN="Bogensport Holzhausen":MAILTO:kontakt@bogensport-holzhausen.de
END:VEVENT
BEGIN:VEVENT
DTSTART;TZID=Europe/Berlin:20250715T173000
DTEND;TZID=Europe/Berlin:20250715T190000
DTSTAMP:20260422T053728
CREATED:20250705T192859Z
LAST-MODIFIED:20250705T192859Z
UID:4695-1752600600-1752606000@bogensport-holzhausen.de
SUMMARY:Jugend- und Erwachsenentraining
DESCRIPTION:
URL:https://bogensport-holzhausen.de/termin/jugend-und-erwachsenentraining-246/
LOCATION:Bogenplatz AdV\, Auf dem Volke\, Georgsmarienhütte\, Niedersachsen\, 49124\, Deutschland
CATEGORIES:Training
ORGANIZER;CN="Bogensport Holzhausen":MAILTO:kontakt@bogensport-holzhausen.de
END:VEVENT
BEGIN:VEVENT
DTSTART;TZID=Europe/Berlin:20250717T173000
DTEND;TZID=Europe/Berlin:20250717T190000
DTSTAMP:20260422T053728
CREATED:20250705T192815Z
LAST-MODIFIED:20250705T192815Z
UID:4683-1752773400-1752778800@bogensport-holzhausen.de
SUMMARY:Jugend- und Erwachsenentraining
DESCRIPTION:
URL:https://bogensport-holzhausen.de/termin/jugend-und-erwachsenentraining-234/
LOCATION:Bogenplatz AdV\, Auf dem Volke\, Georgsmarienhütte\, Niedersachsen\, 49124\, Deutschland
CATEGORIES:Training
ORGANIZER;CN="Bogensport Holzhausen":MAILTO:kontakt@bogensport-holzhausen.de
END:VEVENT
BEGIN:VEVENT
DTSTART;TZID=Europe/Berlin:20250719T110000
DTEND;TZID=Europe/Berlin:20250719T123000
DTSTAMP:20260422T053728
CREATED:20250705T192753Z
LAST-MODIFIED:20250705T192753Z
UID:4671-1752922800-1752928200@bogensport-holzhausen.de
SUMMARY:Schülertraining
DESCRIPTION:
URL:https://bogensport-holzhausen.de/termin/schuelertraining-133/
LOCATION:Bogenplatz AdV\, Auf dem Volke\, Georgsmarienhütte\, Niedersachsen\, 49124\, Deutschland
CATEGORIES:Training
ORGANIZER;CN="Bogensport Holzhausen":MAILTO:kontakt@bogensport-holzhausen.de
END:VEVENT
BEGIN:VEVENT
DTSTART;TZID=Europe/Berlin:20250720T100000
DTEND;TZID=Europe/Berlin:20250720T120000
DTSTAMP:20260422T053728
CREATED:20250705T192932Z
LAST-MODIFIED:20250705T192932Z
UID:4709-1753005600-1753012800@bogensport-holzhausen.de
SUMMARY:Jugend - und Leistungstraining
DESCRIPTION:
URL:https://bogensport-holzhausen.de/termin/jugend-und-leistungstraining-125/
LOCATION:Bogenplatz AdV\, Auf dem Volke\, Georgsmarienhütte\, Niedersachsen\, 49124\, Deutschland
CATEGORIES:Training
ORGANIZER;CN="Bogensport Holzhausen":MAILTO:kontakt@bogensport-holzhausen.de
END:VEVENT
BEGIN:VEVENT
DTSTART;TZID=Europe/Berlin:20250722T173000
DTEND;TZID=Europe/Berlin:20250722T190000
DTSTAMP:20260422T053728
CREATED:20250705T192900Z
LAST-MODIFIED:20250705T192900Z
UID:4696-1753205400-1753210800@bogensport-holzhausen.de
SUMMARY:Jugend- und Erwachsenentraining
DESCRIPTION:
URL:https://bogensport-holzhausen.de/termin/jugend-und-erwachsenentraining-247/
LOCATION:Bogenplatz AdV\, Auf dem Volke\, Georgsmarienhütte\, Niedersachsen\, 49124\, Deutschland
CATEGORIES:Training
ORGANIZER;CN="Bogensport Holzhausen":MAILTO:kontakt@bogensport-holzhausen.de
END:VEVENT
BEGIN:VEVENT
DTSTART;TZID=Europe/Berlin:20250723T150000
DTEND;TZID=Europe/Berlin:20250723T173000
DTSTAMP:20260422T053728
CREATED:20250720T142548Z
LAST-MODIFIED:20250720T143704Z
UID:4723-1753282800-1753291800@bogensport-holzhausen.de
SUMMARY:Platz gesperrt
DESCRIPTION:
URL:https://bogensport-holzhausen.de/termin/platz-gesperrt-2/
LOCATION:Bogenplatz AdV\, Auf dem Volke\, Georgsmarienhütte\, Niedersachsen\, 49124\, Deutschland
CATEGORIES:kein Training
END:VEVENT
BEGIN:VEVENT
DTSTART;TZID=Europe/Berlin:20250724T173000
DTEND;TZID=Europe/Berlin:20250724T190000
DTSTAMP:20260422T053728
CREATED:20250705T192816Z
LAST-MODIFIED:20250705T192816Z
UID:4684-1753378200-1753383600@bogensport-holzhausen.de
SUMMARY:Jugend- und Erwachsenentraining
DESCRIPTION:
URL:https://bogensport-holzhausen.de/termin/jugend-und-erwachsenentraining-235/
LOCATION:Bogenplatz AdV\, Auf dem Volke\, Georgsmarienhütte\, Niedersachsen\, 49124\, Deutschland
CATEGORIES:Training
ORGANIZER;CN="Bogensport Holzhausen":MAILTO:kontakt@bogensport-holzhausen.de
END:VEVENT
BEGIN:VEVENT
DTSTART;TZID=Europe/Berlin:20250726T110000
DTEND;TZID=Europe/Berlin:20250726T123000
DTSTAMP:20260422T053728
CREATED:20250705T192753Z
LAST-MODIFIED:20250705T192753Z
UID:4672-1753527600-1753533000@bogensport-holzhausen.de
SUMMARY:Schülertraining
DESCRIPTION:
URL:https://bogensport-holzhausen.de/termin/schuelertraining-134/
LOCATION:Bogenplatz AdV\, Auf dem Volke\, Georgsmarienhütte\, Niedersachsen\, 49124\, Deutschland
CATEGORIES:Training
ORGANIZER;CN="Bogensport Holzhausen":MAILTO:kontakt@bogensport-holzhausen.de
END:VEVENT
BEGIN:VEVENT
DTSTART;VALUE=DATE:20250727
DTEND;VALUE=DATE:20250728
DTSTAMP:20260422T053728
CREATED:20250318T135849Z
LAST-MODIFIED:20250318T135849Z
UID:4420-1753574400-1753660799@bogensport-holzhausen.de
SUMMARY:LM WA - 3D 2025
DESCRIPTION:LVM_WA_Bogen_3D_2025
URL:https://bogensport-holzhausen.de/termin/lm-wa-3d-2025/
LOCATION:Bogenplatz BSV Lingen\, Schüttdorfer Straße\, Lingen\, Niedersachsen\, 49808\, Germany
CATEGORIES:Meisterschaft 3D
END:VEVENT
BEGIN:VEVENT
DTSTART;TZID=Europe/Berlin:20250727T100000
DTEND;TZID=Europe/Berlin:20250727T120000
DTSTAMP:20260422T053728
CREATED:20250705T192943Z
LAST-MODIFIED:20250705T192943Z
UID:4710-1753610400-1753617600@bogensport-holzhausen.de
SUMMARY:Jugend - und Leistungstraining
DESCRIPTION:
URL:https://bogensport-holzhausen.de/termin/jugend-und-leistungstraining-126/
LOCATION:Bogenplatz AdV\, Auf dem Volke\, Georgsmarienhütte\, Niedersachsen\, 49124\, Deutschland
CATEGORIES:Training
ORGANIZER;CN="Bogensport Holzhausen":MAILTO:kontakt@bogensport-holzhausen.de
END:VEVENT
BEGIN:VEVENT
DTSTART;TZID=Europe/Berlin:20250729T173000
DTEND;TZID=Europe/Berlin:20250729T190000
DTSTAMP:20260422T053728
CREATED:20250705T192901Z
LAST-MODIFIED:20250705T192901Z
UID:4697-1753810200-1753815600@bogensport-holzhausen.de
SUMMARY:Jugend- und Erwachsenentraining
DESCRIPTION:
URL:https://bogensport-holzhausen.de/termin/jugend-und-erwachsenentraining-248/
LOCATION:Bogenplatz AdV\, Auf dem Volke\, Georgsmarienhütte\, Niedersachsen\, 49124\, Deutschland
CATEGORIES:Training
ORGANIZER;CN="Bogensport Holzhausen":MAILTO:kontakt@bogensport-holzhausen.de
END:VEVENT
BEGIN:VEVENT
DTSTART;TZID=Europe/Berlin:20250730T150000
DTEND;TZID=Europe/Berlin:20250730T173000
DTSTAMP:20260422T053728
CREATED:20250720T142651Z
LAST-MODIFIED:20250720T143655Z
UID:4727-1753887600-1753896600@bogensport-holzhausen.de
SUMMARY:Platz gesperrt
DESCRIPTION:
URL:https://bogensport-holzhausen.de/termin/platz-gesperrt-2-2/
LOCATION:Bogenplatz AdV\, Auf dem Volke\, Georgsmarienhütte\, Niedersachsen\, 49124\, Deutschland
CATEGORIES:kein Training
END:VEVENT
BEGIN:VEVENT
DTSTART;TZID=Europe/Berlin:20250731T173000
DTEND;TZID=Europe/Berlin:20250731T190000
DTSTAMP:20260422T053728
CREATED:20250705T192828Z
LAST-MODIFIED:20250705T192828Z
UID:4685-1753983000-1753988400@bogensport-holzhausen.de
SUMMARY:Jugend- und Erwachsenentraining
DESCRIPTION:
URL:https://bogensport-holzhausen.de/termin/jugend-und-erwachsenentraining-236/
LOCATION:Bogenplatz AdV\, Auf dem Volke\, Georgsmarienhütte\, Niedersachsen\, 49124\, Deutschland
CATEGORIES:Training
ORGANIZER;CN="Bogensport Holzhausen":MAILTO:kontakt@bogensport-holzhausen.de
END:VEVENT
END:VCALENDAR