BEGIN:VCALENDAR
VERSION:2.0
PRODID:-//Bogensport Holzhausen - ECPv6.15.20//NONSGML v1.0//EN
CALSCALE:GREGORIAN
METHOD:PUBLISH
X-WR-CALNAME:Bogensport Holzhausen
X-ORIGINAL-URL:https://bogensport-holzhausen.de
X-WR-CALDESC:Veranstaltungen für Bogensport Holzhausen
REFRESH-INTERVAL;VALUE=DURATION:PT1H
X-Robots-Tag:noindex
X-PUBLISHED-TTL:PT1H
BEGIN:VTIMEZONE
TZID:Europe/Berlin
BEGIN:DAYLIGHT
TZOFFSETFROM:+0100
TZOFFSETTO:+0200
TZNAME:CEST
DTSTART:20240331T010000
END:DAYLIGHT
BEGIN:STANDARD
TZOFFSETFROM:+0200
TZOFFSETTO:+0100
TZNAME:CET
DTSTART:20241027T010000
END:STANDARD
BEGIN:DAYLIGHT
TZOFFSETFROM:+0100
TZOFFSETTO:+0200
TZNAME:CEST
DTSTART:20250330T010000
END:DAYLIGHT
BEGIN:STANDARD
TZOFFSETFROM:+0200
TZOFFSETTO:+0100
TZNAME:CET
DTSTART:20251026T010000
END:STANDARD
BEGIN:DAYLIGHT
TZOFFSETFROM:+0100
TZOFFSETTO:+0200
TZNAME:CEST
DTSTART:20260329T010000
END:DAYLIGHT
BEGIN:STANDARD
TZOFFSETFROM:+0200
TZOFFSETTO:+0100
TZNAME:CET
DTSTART:20261025T010000
END:STANDARD
END:VTIMEZONE
BEGIN:VEVENT
DTSTART;TZID=Europe/Berlin:20250301T110000
DTEND;TZID=Europe/Berlin:20250301T123000
DTSTAMP:20260422T120347
CREATED:20241104T082055Z
LAST-MODIFIED:20250209T183256Z
UID:4242-1740826800-1740832200@bogensport-holzhausen.de
SUMMARY:Schülertraining
DESCRIPTION:Kein Training wegen Karneval
URL:https://bogensport-holzhausen.de/termin/schuelertraining-119/
LOCATION:Sporthalle Holzhausen\, Sutthauser Straße 27\, Georgsmarienhütte\, Niedersachsen\, 49124\, Deutschland
CATEGORIES:kein Training
ORGANIZER;CN="Bogensport Holzhausen":MAILTO:kontakt@bogensport-holzhausen.de
END:VEVENT
BEGIN:VEVENT
DTSTART;TZID=Europe/Berlin:20250302T100000
DTEND;TZID=Europe/Berlin:20250302T120000
DTSTAMP:20260422T120347
CREATED:20241104T082103Z
LAST-MODIFIED:20241104T082103Z
UID:4256-1740909600-1740916800@bogensport-holzhausen.de
SUMMARY:Jugend - und Leistungstraining
DESCRIPTION:
URL:https://bogensport-holzhausen.de/termin/jugend-und-leistungstraining-110/
LOCATION:Sporthalle Holzhausen\, Sutthauser Straße 27\, Georgsmarienhütte\, Niedersachsen\, 49124\, Deutschland
CATEGORIES:Training
ORGANIZER;CN="Bogensport Holzhausen":MAILTO:kontakt@bogensport-holzhausen.de
END:VEVENT
BEGIN:VEVENT
DTSTART;TZID=Europe/Berlin:20250306T200000
DTEND;TZID=Europe/Berlin:20250306T220000
DTSTAMP:20260422T120347
CREATED:20241104T081959Z
LAST-MODIFIED:20241104T082005Z
UID:4222-1741291200-1741298400@bogensport-holzhausen.de
SUMMARY:Jugend- und Erwachsenentraining
DESCRIPTION:
URL:https://bogensport-holzhausen.de/termin/jugend-und-erwachsenentraining-204/
LOCATION:Sporthalle Holzhausen\, Sutthauser Straße 27\, Georgsmarienhütte\, Niedersachsen\, 49124\, Deutschland
CATEGORIES:Training
ORGANIZER;CN="Bogensport Holzhausen":MAILTO:kontakt@bogensport-holzhausen.de
END:VEVENT
BEGIN:VEVENT
DTSTART;VALUE=DATE:20250307
DTEND;VALUE=DATE:20250310
DTSTAMP:20260422T120347
CREATED:20241108T214218Z
LAST-MODIFIED:20241108T214856Z
UID:4286-1741305600-1741564799@bogensport-holzhausen.de
SUMMARY:Deutsche Meisterschaft (Halle)
DESCRIPTION:
URL:https://bogensport-holzhausen.de/termin/deutsche-meisterschaft-halle-3/
LOCATION:Bieberach\, Bieberach\, Germany
CATEGORIES:Meisterschaft Halle
END:VEVENT
BEGIN:VEVENT
DTSTART;TZID=Europe/Berlin:20250308T110000
DTEND;TZID=Europe/Berlin:20250308T123000
DTSTAMP:20260422T120347
CREATED:20241104T082055Z
LAST-MODIFIED:20241104T082110Z
UID:4244-1741431600-1741437000@bogensport-holzhausen.de
SUMMARY:Schülertraining
DESCRIPTION:
URL:https://bogensport-holzhausen.de/termin/schuelertraining-120/
LOCATION:Sporthalle Holzhausen\, Sutthauser Straße 27\, Georgsmarienhütte\, Niedersachsen\, 49124\, Deutschland
CATEGORIES:Training
ORGANIZER;CN="Bogensport Holzhausen":MAILTO:kontakt@bogensport-holzhausen.de
END:VEVENT
BEGIN:VEVENT
DTSTART;TZID=Europe/Berlin:20250309T100000
DTEND;TZID=Europe/Berlin:20250309T120000
DTSTAMP:20260422T120347
CREATED:20241104T082117Z
LAST-MODIFIED:20241104T082117Z
UID:4262-1741514400-1741521600@bogensport-holzhausen.de
SUMMARY:Jugend - und Leistungstraining
DESCRIPTION:
URL:https://bogensport-holzhausen.de/termin/jugend-und-leistungstraining-111/
LOCATION:Sporthalle Holzhausen\, Sutthauser Straße 27\, Georgsmarienhütte\, Niedersachsen\, 49124\, Deutschland
CATEGORIES:Training
ORGANIZER;CN="Bogensport Holzhausen":MAILTO:kontakt@bogensport-holzhausen.de
END:VEVENT
BEGIN:VEVENT
DTSTART;TZID=Europe/Berlin:20250313T200000
DTEND;TZID=Europe/Berlin:20250313T220000
DTSTAMP:20260422T120347
CREATED:20241104T082000Z
LAST-MODIFIED:20241104T082005Z
UID:4223-1741896000-1741903200@bogensport-holzhausen.de
SUMMARY:Jugend- und Erwachsenentraining
DESCRIPTION:
URL:https://bogensport-holzhausen.de/termin/jugend-und-erwachsenentraining-205/
LOCATION:Sporthalle Holzhausen\, Sutthauser Straße 27\, Georgsmarienhütte\, Niedersachsen\, 49124\, Deutschland
CATEGORIES:Training
ORGANIZER;CN="Bogensport Holzhausen":MAILTO:kontakt@bogensport-holzhausen.de
END:VEVENT
BEGIN:VEVENT
DTSTART;TZID=Europe/Berlin:20250315T110000
DTEND;TZID=Europe/Berlin:20250315T123000
DTSTAMP:20260422T120347
CREATED:20241104T082056Z
LAST-MODIFIED:20241104T082111Z
UID:4246-1742036400-1742041800@bogensport-holzhausen.de
SUMMARY:Schülertraining
DESCRIPTION:
URL:https://bogensport-holzhausen.de/termin/schuelertraining-121/
LOCATION:Sporthalle Holzhausen\, Sutthauser Straße 27\, Georgsmarienhütte\, Niedersachsen\, 49124\, Deutschland
CATEGORIES:Training
ORGANIZER;CN="Bogensport Holzhausen":MAILTO:kontakt@bogensport-holzhausen.de
END:VEVENT
BEGIN:VEVENT
DTSTART;TZID=Europe/Berlin:20250316T100000
DTEND;TZID=Europe/Berlin:20250316T120000
DTSTAMP:20260422T120347
CREATED:20241104T082117Z
LAST-MODIFIED:20241104T082117Z
UID:4263-1742119200-1742126400@bogensport-holzhausen.de
SUMMARY:Jugend - und Leistungstraining
DESCRIPTION:
URL:https://bogensport-holzhausen.de/termin/jugend-und-leistungstraining-112/
LOCATION:Sporthalle Holzhausen\, Sutthauser Straße 27\, Georgsmarienhütte\, Niedersachsen\, 49124\, Deutschland
CATEGORIES:Training
ORGANIZER;CN="Bogensport Holzhausen":MAILTO:kontakt@bogensport-holzhausen.de
END:VEVENT
BEGIN:VEVENT
DTSTART;TZID=Europe/Berlin:20250320T200000
DTEND;TZID=Europe/Berlin:20250320T220000
DTSTAMP:20260422T120347
CREATED:20241104T082001Z
LAST-MODIFIED:20241104T082006Z
UID:4224-1742500800-1742508000@bogensport-holzhausen.de
SUMMARY:Jugend- und Erwachsenentraining
DESCRIPTION:
URL:https://bogensport-holzhausen.de/termin/jugend-und-erwachsenentraining-206/
LOCATION:Sporthalle Holzhausen\, Sutthauser Straße 27\, Georgsmarienhütte\, Niedersachsen\, 49124\, Deutschland
CATEGORIES:Training
ORGANIZER;CN="Bogensport Holzhausen":MAILTO:kontakt@bogensport-holzhausen.de
END:VEVENT
BEGIN:VEVENT
DTSTART;TZID=Europe/Berlin:20250322T110000
DTEND;TZID=Europe/Berlin:20250322T123000
DTSTAMP:20260422T120347
CREATED:20241104T082057Z
LAST-MODIFIED:20241104T082111Z
UID:4248-1742641200-1742646600@bogensport-holzhausen.de
SUMMARY:Schülertraining
DESCRIPTION:
URL:https://bogensport-holzhausen.de/termin/schuelertraining-122/
LOCATION:Sporthalle Holzhausen\, Sutthauser Straße 27\, Georgsmarienhütte\, Niedersachsen\, 49124\, Deutschland
CATEGORIES:Training
ORGANIZER;CN="Bogensport Holzhausen":MAILTO:kontakt@bogensport-holzhausen.de
END:VEVENT
BEGIN:VEVENT
DTSTART;TZID=Europe/Berlin:20250323T100000
DTEND;TZID=Europe/Berlin:20250323T120000
DTSTAMP:20260422T120347
CREATED:20241104T082118Z
LAST-MODIFIED:20241104T082118Z
UID:4264-1742724000-1742731200@bogensport-holzhausen.de
SUMMARY:Jugend - und Leistungstraining
DESCRIPTION:
URL:https://bogensport-holzhausen.de/termin/jugend-und-leistungstraining-113/
LOCATION:Sporthalle Holzhausen\, Sutthauser Straße 27\, Georgsmarienhütte\, Niedersachsen\, 49124\, Deutschland
CATEGORIES:Training
ORGANIZER;CN="Bogensport Holzhausen":MAILTO:kontakt@bogensport-holzhausen.de
END:VEVENT
BEGIN:VEVENT
DTSTART;TZID=Europe/Berlin:20250327T200000
DTEND;TZID=Europe/Berlin:20250327T220000
DTSTAMP:20260422T120347
CREATED:20241104T082003Z
LAST-MODIFIED:20241104T082006Z
UID:4225-1743105600-1743112800@bogensport-holzhausen.de
SUMMARY:Jugend- und Erwachsenentraining
DESCRIPTION:
URL:https://bogensport-holzhausen.de/termin/jugend-und-erwachsenentraining-207/
LOCATION:Sporthalle Holzhausen\, Sutthauser Straße 27\, Georgsmarienhütte\, Niedersachsen\, 49124\, Deutschland
CATEGORIES:Training
ORGANIZER;CN="Bogensport Holzhausen":MAILTO:kontakt@bogensport-holzhausen.de
END:VEVENT
BEGIN:VEVENT
DTSTART;TZID=Europe/Berlin:20250327T200000
DTEND;TZID=Europe/Berlin:20250327T220000
DTSTAMP:20260422T120347
CREATED:20250131T203302Z
LAST-MODIFIED:20250322T112320Z
UID:4356-1743105600-1743112800@bogensport-holzhausen.de
SUMMARY:Dart-Turnier
DESCRIPTION:
URL:https://bogensport-holzhausen.de/termin/jugend-und-leistungstraining-114-2/
LOCATION:Sporthalle Holzhausen\, Sutthauser Straße 27\, Georgsmarienhütte\, Niedersachsen\, 49124\, Deutschland
CATEGORIES:kein Training
ORGANIZER;CN="Bogensport Holzhausen":MAILTO:kontakt@bogensport-holzhausen.de
END:VEVENT
BEGIN:VEVENT
DTSTART;TZID=Europe/Berlin:20250329T110000
DTEND;TZID=Europe/Berlin:20250329T123000
DTSTAMP:20260422T120347
CREATED:20241104T082058Z
LAST-MODIFIED:20241104T082111Z
UID:4251-1743246000-1743251400@bogensport-holzhausen.de
SUMMARY:Schülertraining
DESCRIPTION:
URL:https://bogensport-holzhausen.de/termin/schuelertraining-123/
LOCATION:Sporthalle Holzhausen\, Sutthauser Straße 27\, Georgsmarienhütte\, Niedersachsen\, 49124\, Deutschland
CATEGORIES:Training
ORGANIZER;CN="Bogensport Holzhausen":MAILTO:kontakt@bogensport-holzhausen.de
END:VEVENT
BEGIN:VEVENT
DTSTART;TZID=Europe/Berlin:20250329T123000
DTEND;TZID=Europe/Berlin:20250329T123000
DTSTAMP:20260422T120347
CREATED:20250122T074158Z
LAST-MODIFIED:20250206T212413Z
UID:4349-1743251400-1743251400@bogensport-holzhausen.de
SUMMARY:Techniktraining
DESCRIPTION:
URL:https://bogensport-holzhausen.de/termin/techniktraining-18/
LOCATION:Sporthalle Holzhausen\, Sutthauser Straße 27\, Georgsmarienhütte\, Niedersachsen\, 49124\, Deutschland
CATEGORIES:Training
ORGANIZER;CN="Bogensport Holzhausen":MAILTO:kontakt@bogensport-holzhausen.de
END:VEVENT
BEGIN:VEVENT
DTSTART;TZID=Europe/Berlin:20250329T140000
DTEND;TZID=Europe/Berlin:20250329T153000
DTSTAMP:20260422T120347
CREATED:20250131T203028Z
LAST-MODIFIED:20250131T203028Z
UID:4351-1743256800-1743262200@bogensport-holzhausen.de
SUMMARY:Platzaufbau
DESCRIPTION:Vorbereitung und Aufbau der Anlage für die Außensaison.
URL:https://bogensport-holzhausen.de/termin/einsteigerkurs-17-2/
LOCATION:Bogenplatz AdV\, Auf dem Volke\, Georgsmarienhütte\, Niedersachsen\, 49124\, Deutschland
CATEGORIES:kein Training
ORGANIZER;CN="Bogensport Holzhausen":MAILTO:kontakt@bogensport-holzhausen.de
END:VEVENT
BEGIN:VEVENT
DTSTART;TZID=Europe/Berlin:20250330T100000
DTEND;TZID=Europe/Berlin:20250330T120000
DTSTAMP:20260422T120347
CREATED:20241104T082129Z
LAST-MODIFIED:20241104T082129Z
UID:4265-1743328800-1743336000@bogensport-holzhausen.de
SUMMARY:Jugend - und Leistungstraining
DESCRIPTION:
URL:https://bogensport-holzhausen.de/termin/jugend-und-leistungstraining-114/
LOCATION:Sporthalle Holzhausen\, Sutthauser Straße 27\, Georgsmarienhütte\, Niedersachsen\, 49124\, Deutschland
CATEGORIES:Training
ORGANIZER;CN="Bogensport Holzhausen":MAILTO:kontakt@bogensport-holzhausen.de
END:VEVENT
END:VCALENDAR