BEGIN:VCALENDAR
VERSION:2.0
PRODID:-//Bogensport Holzhausen - ECPv6.15.20//NONSGML v1.0//EN
CALSCALE:GREGORIAN
METHOD:PUBLISH
X-WR-CALNAME:Bogensport Holzhausen
X-ORIGINAL-URL:https://bogensport-holzhausen.de
X-WR-CALDESC:Veranstaltungen für Bogensport Holzhausen
REFRESH-INTERVAL;VALUE=DURATION:PT1H
X-Robots-Tag:noindex
X-PUBLISHED-TTL:PT1H
BEGIN:VTIMEZONE
TZID:Europe/Berlin
BEGIN:DAYLIGHT
TZOFFSETFROM:+0100
TZOFFSETTO:+0200
TZNAME:CEST
DTSTART:20250330T010000
END:DAYLIGHT
BEGIN:STANDARD
TZOFFSETFROM:+0200
TZOFFSETTO:+0100
TZNAME:CET
DTSTART:20251026T010000
END:STANDARD
BEGIN:DAYLIGHT
TZOFFSETFROM:+0100
TZOFFSETTO:+0200
TZNAME:CEST
DTSTART:20260329T010000
END:DAYLIGHT
BEGIN:STANDARD
TZOFFSETFROM:+0200
TZOFFSETTO:+0100
TZNAME:CET
DTSTART:20261025T010000
END:STANDARD
BEGIN:DAYLIGHT
TZOFFSETFROM:+0100
TZOFFSETTO:+0200
TZNAME:CEST
DTSTART:20270328T010000
END:DAYLIGHT
BEGIN:STANDARD
TZOFFSETFROM:+0200
TZOFFSETTO:+0100
TZNAME:CET
DTSTART:20271031T010000
END:STANDARD
END:VTIMEZONE
BEGIN:VEVENT
DTSTART;TZID=Europe/Berlin:20260908T173000
DTEND;TZID=Europe/Berlin:20260908T190000
DTSTAMP:20260421T221044
CREATED:20260328T182629Z
LAST-MODIFIED:20260328T182629Z
UID:5573-1788888600-1788894000@bogensport-holzhausen.de
SUMMARY:Jugend- und Erwachsenentraining
DESCRIPTION:
URL:https://bogensport-holzhausen.de/termin/jugend-und-erwachsenentraining-23/
LOCATION:Bogenplatz AdV\, Auf dem Volke\, Georgsmarienhütte\, Niedersachsen\, 49124\, Deutschland
CATEGORIES:Training
ORGANIZER;CN="Bogensport Holzhausen":MAILTO:kontakt@bogensport-holzhausen.de
END:VEVENT
BEGIN:VEVENT
DTSTART;TZID=Europe/Berlin:20260910T173000
DTEND;TZID=Europe/Berlin:20260910T190000
DTSTAMP:20260421T221044
CREATED:20260409T192600Z
LAST-MODIFIED:20260409T192600Z
UID:5616-1789061400-1789066800@bogensport-holzhausen.de
SUMMARY:Jugend- und Erwachsenentraining
DESCRIPTION:
URL:https://bogensport-holzhausen.de/termin/jugend-und-erwachsenentraining-48/
LOCATION:Bogenplatz AdV\, Auf dem Volke\, Georgsmarienhütte\, Niedersachsen\, 49124\, Deutschland
CATEGORIES:Training
ORGANIZER;CN="Bogensport Holzhausen":MAILTO:kontakt@bogensport-holzhausen.de
END:VEVENT
BEGIN:VEVENT
DTSTART;TZID=Europe/Berlin:20260912T110000
DTEND;TZID=Europe/Berlin:20260912T123000
DTSTAMP:20260421T221044
CREATED:20260328T180607Z
LAST-MODIFIED:20260328T180607Z
UID:5516-1789210800-1789216200@bogensport-holzhausen.de
SUMMARY:Schülertraining
DESCRIPTION:
URL:https://bogensport-holzhausen.de/termin/schuelertraining-24/
LOCATION:Bogenplatz AdV\, Auf dem Volke\, Georgsmarienhütte\, Niedersachsen\, 49124\, Deutschland
CATEGORIES:Training
ORGANIZER;CN="Bogensport Holzhausen":MAILTO:kontakt@bogensport-holzhausen.de
END:VEVENT
BEGIN:VEVENT
DTSTART;TZID=Europe/Berlin:20260913T100000
DTEND;TZID=Europe/Berlin:20260913T120000
DTSTAMP:20260421T221044
CREATED:20260328T181501Z
LAST-MODIFIED:20260328T181501Z
UID:5548-1789293600-1789300800@bogensport-holzhausen.de
SUMMARY:Jugend - und Leistungstraining
DESCRIPTION:
URL:https://bogensport-holzhausen.de/termin/jugend-und-leistungstraining-24/
LOCATION:Bogenplatz AdV\, Auf dem Volke\, Georgsmarienhütte\, Niedersachsen\, 49124\, Deutschland
CATEGORIES:Training
ORGANIZER;CN="Bogensport Holzhausen":MAILTO:kontakt@bogensport-holzhausen.de
END:VEVENT
BEGIN:VEVENT
DTSTART;TZID=Europe/Berlin:20260915T173000
DTEND;TZID=Europe/Berlin:20260915T190000
DTSTAMP:20260421T221044
CREATED:20260328T182629Z
LAST-MODIFIED:20260328T182629Z
UID:5574-1789493400-1789498800@bogensport-holzhausen.de
SUMMARY:Jugend- und Erwachsenentraining
DESCRIPTION:
URL:https://bogensport-holzhausen.de/termin/jugend-und-erwachsenentraining-24/
LOCATION:Bogenplatz AdV\, Auf dem Volke\, Georgsmarienhütte\, Niedersachsen\, 49124\, Deutschland
CATEGORIES:Training
ORGANIZER;CN="Bogensport Holzhausen":MAILTO:kontakt@bogensport-holzhausen.de
END:VEVENT
BEGIN:VEVENT
DTSTART;TZID=Europe/Berlin:20260917T173000
DTEND;TZID=Europe/Berlin:20260917T190000
DTSTAMP:20260421T221044
CREATED:20260409T192601Z
LAST-MODIFIED:20260409T192601Z
UID:5617-1789666200-1789671600@bogensport-holzhausen.de
SUMMARY:Jugend- und Erwachsenentraining
DESCRIPTION:
URL:https://bogensport-holzhausen.de/termin/jugend-und-erwachsenentraining-49/
LOCATION:Bogenplatz AdV\, Auf dem Volke\, Georgsmarienhütte\, Niedersachsen\, 49124\, Deutschland
CATEGORIES:Training
ORGANIZER;CN="Bogensport Holzhausen":MAILTO:kontakt@bogensport-holzhausen.de
END:VEVENT
BEGIN:VEVENT
DTSTART;TZID=Europe/Berlin:20260919T110000
DTEND;TZID=Europe/Berlin:20260919T123000
DTSTAMP:20260421T221044
CREATED:20260328T180608Z
LAST-MODIFIED:20260328T180608Z
UID:5517-1789815600-1789821000@bogensport-holzhausen.de
SUMMARY:Schülertraining
DESCRIPTION:
URL:https://bogensport-holzhausen.de/termin/schuelertraining-25/
LOCATION:Bogenplatz AdV\, Auf dem Volke\, Georgsmarienhütte\, Niedersachsen\, 49124\, Deutschland
CATEGORIES:Training
ORGANIZER;CN="Bogensport Holzhausen":MAILTO:kontakt@bogensport-holzhausen.de
END:VEVENT
BEGIN:VEVENT
DTSTART;TZID=Europe/Berlin:20260920T100000
DTEND;TZID=Europe/Berlin:20260920T120000
DTSTAMP:20260421T221044
CREATED:20260328T181502Z
LAST-MODIFIED:20260328T181502Z
UID:5549-1789898400-1789905600@bogensport-holzhausen.de
SUMMARY:Jugend - und Leistungstraining
DESCRIPTION:
URL:https://bogensport-holzhausen.de/termin/jugend-und-leistungstraining-25/
LOCATION:Bogenplatz AdV\, Auf dem Volke\, Georgsmarienhütte\, Niedersachsen\, 49124\, Deutschland
CATEGORIES:Training
ORGANIZER;CN="Bogensport Holzhausen":MAILTO:kontakt@bogensport-holzhausen.de
END:VEVENT
BEGIN:VEVENT
DTSTART;TZID=Europe/Berlin:20260922T173000
DTEND;TZID=Europe/Berlin:20260922T190000
DTSTAMP:20260421T221044
CREATED:20260328T182630Z
LAST-MODIFIED:20260328T182630Z
UID:5575-1790098200-1790103600@bogensport-holzhausen.de
SUMMARY:Jugend- und Erwachsenentraining
DESCRIPTION:
URL:https://bogensport-holzhausen.de/termin/jugend-und-erwachsenentraining-25/
LOCATION:Bogenplatz AdV\, Auf dem Volke\, Georgsmarienhütte\, Niedersachsen\, 49124\, Deutschland
CATEGORIES:Training
ORGANIZER;CN="Bogensport Holzhausen":MAILTO:kontakt@bogensport-holzhausen.de
END:VEVENT
BEGIN:VEVENT
DTSTART;TZID=Europe/Berlin:20260924T173000
DTEND;TZID=Europe/Berlin:20260924T190000
DTSTAMP:20260421T221044
CREATED:20260409T192602Z
LAST-MODIFIED:20260409T192602Z
UID:5618-1790271000-1790276400@bogensport-holzhausen.de
SUMMARY:Jugend- und Erwachsenentraining
DESCRIPTION:
URL:https://bogensport-holzhausen.de/termin/jugend-und-erwachsenentraining-50/
LOCATION:Bogenplatz AdV\, Auf dem Volke\, Georgsmarienhütte\, Niedersachsen\, 49124\, Deutschland
CATEGORIES:Training
ORGANIZER;CN="Bogensport Holzhausen":MAILTO:kontakt@bogensport-holzhausen.de
END:VEVENT
BEGIN:VEVENT
DTSTART;TZID=Europe/Berlin:20260926T110000
DTEND;TZID=Europe/Berlin:20260926T123000
DTSTAMP:20260421T221044
CREATED:20260328T180620Z
LAST-MODIFIED:20260328T180620Z
UID:5518-1790420400-1790425800@bogensport-holzhausen.de
SUMMARY:Schülertraining
DESCRIPTION:
URL:https://bogensport-holzhausen.de/termin/schuelertraining-26/
LOCATION:Bogenplatz AdV\, Auf dem Volke\, Georgsmarienhütte\, Niedersachsen\, 49124\, Deutschland
CATEGORIES:Training
ORGANIZER;CN="Bogensport Holzhausen":MAILTO:kontakt@bogensport-holzhausen.de
END:VEVENT
BEGIN:VEVENT
DTSTART;TZID=Europe/Berlin:20260926T123000
DTEND;TZID=Europe/Berlin:20260926T130000
DTSTAMP:20260421T221044
CREATED:20260328T180637Z
LAST-MODIFIED:20260328T180637Z
UID:5524-1790425800-1790427600@bogensport-holzhausen.de
SUMMARY:Techniktraining
DESCRIPTION:
URL:https://bogensport-holzhausen.de/termin/techniktraining-6/
LOCATION:Bogenplatz AdV\, Auf dem Volke\, Georgsmarienhütte\, Niedersachsen\, 49124\, Deutschland
CATEGORIES:Training
ORGANIZER;CN="Bogensport Holzhausen":MAILTO:kontakt@bogensport-holzhausen.de
END:VEVENT
BEGIN:VEVENT
DTSTART;TZID=Europe/Berlin:20260927T100000
DTEND;TZID=Europe/Berlin:20260927T120000
DTSTAMP:20260421T221044
CREATED:20260328T181503Z
LAST-MODIFIED:20260328T181503Z
UID:5550-1790503200-1790510400@bogensport-holzhausen.de
SUMMARY:Jugend - und Leistungstraining
DESCRIPTION:
URL:https://bogensport-holzhausen.de/termin/jugend-und-leistungstraining-26/
LOCATION:Bogenplatz AdV\, Auf dem Volke\, Georgsmarienhütte\, Niedersachsen\, 49124\, Deutschland
CATEGORIES:Training
ORGANIZER;CN="Bogensport Holzhausen":MAILTO:kontakt@bogensport-holzhausen.de
END:VEVENT
BEGIN:VEVENT
DTSTART;TZID=Europe/Berlin:20260929T173000
DTEND;TZID=Europe/Berlin:20260929T190000
DTSTAMP:20260421T221044
CREATED:20260328T182631Z
LAST-MODIFIED:20260328T182631Z
UID:5576-1790703000-1790708400@bogensport-holzhausen.de
SUMMARY:Jugend- und Erwachsenentraining
DESCRIPTION:
URL:https://bogensport-holzhausen.de/termin/jugend-und-erwachsenentraining-26/
LOCATION:Bogenplatz AdV\, Auf dem Volke\, Georgsmarienhütte\, Niedersachsen\, 49124\, Deutschland
CATEGORIES:Training
ORGANIZER;CN="Bogensport Holzhausen":MAILTO:kontakt@bogensport-holzhausen.de
END:VEVENT
END:VCALENDAR