BEGIN:VCALENDAR
VERSION:2.0
PRODID:-//Bogensport Holzhausen - ECPv6.15.20//NONSGML v1.0//EN
CALSCALE:GREGORIAN
METHOD:PUBLISH
X-WR-CALNAME:Bogensport Holzhausen
X-ORIGINAL-URL:https://bogensport-holzhausen.de
X-WR-CALDESC:Veranstaltungen für Bogensport Holzhausen
REFRESH-INTERVAL;VALUE=DURATION:PT1H
X-Robots-Tag:noindex
X-PUBLISHED-TTL:PT1H
BEGIN:VTIMEZONE
TZID:Europe/Berlin
BEGIN:DAYLIGHT
TZOFFSETFROM:+0100
TZOFFSETTO:+0200
TZNAME:CEST
DTSTART:20250330T010000
END:DAYLIGHT
BEGIN:STANDARD
TZOFFSETFROM:+0200
TZOFFSETTO:+0100
TZNAME:CET
DTSTART:20251026T010000
END:STANDARD
BEGIN:DAYLIGHT
TZOFFSETFROM:+0100
TZOFFSETTO:+0200
TZNAME:CEST
DTSTART:20260329T010000
END:DAYLIGHT
BEGIN:STANDARD
TZOFFSETFROM:+0200
TZOFFSETTO:+0100
TZNAME:CET
DTSTART:20261025T010000
END:STANDARD
BEGIN:DAYLIGHT
TZOFFSETFROM:+0100
TZOFFSETTO:+0200
TZNAME:CEST
DTSTART:20270328T010000
END:DAYLIGHT
BEGIN:STANDARD
TZOFFSETFROM:+0200
TZOFFSETTO:+0100
TZNAME:CET
DTSTART:20271031T010000
END:STANDARD
END:VTIMEZONE
BEGIN:VEVENT
DTSTART;TZID=Europe/Berlin:20260521T173000
DTEND;TZID=Europe/Berlin:20260521T190000
DTSTAMP:20260421T105757
CREATED:20260409T192514Z
LAST-MODIFIED:20260409T192514Z
UID:5600-1779384600-1779390000@bogensport-holzhausen.de
SUMMARY:Jugend- und Erwachsenentraining
DESCRIPTION:
URL:https://bogensport-holzhausen.de/termin/jugend-und-erwachsenentraining-32/
LOCATION:Bogenplatz AdV\, Auf dem Volke\, Georgsmarienhütte\, Niedersachsen\, 49124\, Deutschland
CATEGORIES:Training
ORGANIZER;CN="Bogensport Holzhausen":MAILTO:kontakt@bogensport-holzhausen.de
END:VEVENT
BEGIN:VEVENT
DTSTART;TZID=Europe/Berlin:20260523T110000
DTEND;TZID=Europe/Berlin:20260523T123000
DTSTAMP:20260421T105758
CREATED:20260328T180322Z
LAST-MODIFIED:20260328T180322Z
UID:5500-1779534000-1779539400@bogensport-holzhausen.de
SUMMARY:Schülertraining
DESCRIPTION:
URL:https://bogensport-holzhausen.de/termin/schuelertraining-8/
LOCATION:Bogenplatz AdV\, Auf dem Volke\, Georgsmarienhütte\, Niedersachsen\, 49124\, Deutschland
CATEGORIES:Training
ORGANIZER;CN="Bogensport Holzhausen":MAILTO:kontakt@bogensport-holzhausen.de
END:VEVENT
BEGIN:VEVENT
DTSTART;TZID=Europe/Berlin:20260524T100000
DTEND;TZID=Europe/Berlin:20260524T120000
DTSTAMP:20260421T105758
CREATED:20260328T180838Z
LAST-MODIFIED:20260328T180838Z
UID:5532-1779616800-1779624000@bogensport-holzhausen.de
SUMMARY:Jugend - und Leistungstraining
DESCRIPTION:
URL:https://bogensport-holzhausen.de/termin/jugend-und-leistungstraining-8/
LOCATION:Bogenplatz AdV\, Auf dem Volke\, Georgsmarienhütte\, Niedersachsen\, 49124\, Deutschland
CATEGORIES:Training
ORGANIZER;CN="Bogensport Holzhausen":MAILTO:kontakt@bogensport-holzhausen.de
END:VEVENT
BEGIN:VEVENT
DTSTART;TZID=Europe/Berlin:20260525T180000
DTEND;TZID=Europe/Berlin:20260525T193000
DTSTAMP:20260421T105758
CREATED:20260328T182647Z
LAST-MODIFIED:20260328T184829Z
UID:5582-1779732000-1779737400@bogensport-holzhausen.de
SUMMARY:Einsteigerkurs 1
DESCRIPTION:
URL:https://bogensport-holzhausen.de/termin/einsteigerkurs-1-13/
LOCATION:Bogenplatz AdV\, Auf dem Volke\, Georgsmarienhütte\, Niedersachsen\, 49124\, Deutschland
CATEGORIES:Einsteiger
ORGANIZER;CN="Bogensport Holzhausen":MAILTO:kontakt@bogensport-holzhausen.de
END:VEVENT
BEGIN:VEVENT
DTSTART;TZID=Europe/Berlin:20260526T173000
DTEND;TZID=Europe/Berlin:20260526T190000
DTSTAMP:20260421T105758
CREATED:20260328T181901Z
LAST-MODIFIED:20260328T181901Z
UID:5558-1779816600-1779822000@bogensport-holzhausen.de
SUMMARY:Jugend- und Erwachsenentraining
DESCRIPTION:
URL:https://bogensport-holzhausen.de/termin/jugend-und-erwachsenentraining-8/
LOCATION:Bogenplatz AdV\, Auf dem Volke\, Georgsmarienhütte\, Niedersachsen\, 49124\, Deutschland
CATEGORIES:Training
ORGANIZER;CN="Bogensport Holzhausen":MAILTO:kontakt@bogensport-holzhausen.de
END:VEVENT
BEGIN:VEVENT
DTSTART;TZID=Europe/Berlin:20260528T173000
DTEND;TZID=Europe/Berlin:20260528T190000
DTSTAMP:20260421T105758
CREATED:20260409T192515Z
LAST-MODIFIED:20260409T192515Z
UID:5601-1779989400-1779994800@bogensport-holzhausen.de
SUMMARY:Jugend- und Erwachsenentraining
DESCRIPTION:
URL:https://bogensport-holzhausen.de/termin/jugend-und-erwachsenentraining-33/
LOCATION:Bogenplatz AdV\, Auf dem Volke\, Georgsmarienhütte\, Niedersachsen\, 49124\, Deutschland
CATEGORIES:Training
ORGANIZER;CN="Bogensport Holzhausen":MAILTO:kontakt@bogensport-holzhausen.de
END:VEVENT
BEGIN:VEVENT
DTSTART;VALUE=DATE:20260530
DTEND;VALUE=DATE:20260601
DTSTAMP:20260421T105758
CREATED:20260328T153430Z
LAST-MODIFIED:20260328T172342Z
UID:5018-1780099200-1780271999@bogensport-holzhausen.de
SUMMARY:BM WA im Freien
DESCRIPTION:BM_WA_Freien_2026
URL:https://bogensport-holzhausen.de/termin/5018/
LOCATION:SSC Artland\, Am Schützenhof\, Quackenbrück\, 49610\, Germany
CATEGORIES:Meisterschaft im Freien
END:VEVENT
BEGIN:VEVENT
DTSTART;TZID=Europe/Berlin:20260530T110000
DTEND;TZID=Europe/Berlin:20260530T123000
DTSTAMP:20260421T105758
CREATED:20260328T180323Z
LAST-MODIFIED:20260328T180323Z
UID:5501-1780138800-1780144200@bogensport-holzhausen.de
SUMMARY:Schülertraining
DESCRIPTION:
URL:https://bogensport-holzhausen.de/termin/schuelertraining-9/
LOCATION:Bogenplatz AdV\, Auf dem Volke\, Georgsmarienhütte\, Niedersachsen\, 49124\, Deutschland
CATEGORIES:Training
ORGANIZER;CN="Bogensport Holzhausen":MAILTO:kontakt@bogensport-holzhausen.de
END:VEVENT
BEGIN:VEVENT
DTSTART;TZID=Europe/Berlin:20260530T123000
DTEND;TZID=Europe/Berlin:20260530T130000
DTSTAMP:20260421T105758
CREATED:20260328T180622Z
LAST-MODIFIED:20260328T180622Z
UID:5520-1780144200-1780146000@bogensport-holzhausen.de
SUMMARY:Techniktraining
DESCRIPTION:
URL:https://bogensport-holzhausen.de/termin/techniktraining-2/
LOCATION:Bogenplatz AdV\, Auf dem Volke\, Georgsmarienhütte\, Niedersachsen\, 49124\, Deutschland
CATEGORIES:Training
ORGANIZER;CN="Bogensport Holzhausen":MAILTO:kontakt@bogensport-holzhausen.de
END:VEVENT
BEGIN:VEVENT
DTSTART;TZID=Europe/Berlin:20260531T100000
DTEND;TZID=Europe/Berlin:20260531T120000
DTSTAMP:20260421T105758
CREATED:20260328T180901Z
LAST-MODIFIED:20260328T180901Z
UID:5533-1780221600-1780228800@bogensport-holzhausen.de
SUMMARY:Jugend - und Leistungstraining
DESCRIPTION:
URL:https://bogensport-holzhausen.de/termin/jugend-und-leistungstraining-9/
LOCATION:Bogenplatz AdV\, Auf dem Volke\, Georgsmarienhütte\, Niedersachsen\, 49124\, Deutschland
CATEGORIES:Training
ORGANIZER;CN="Bogensport Holzhausen":MAILTO:kontakt@bogensport-holzhausen.de
END:VEVENT
BEGIN:VEVENT
DTSTART;TZID=Europe/Berlin:20260602T173000
DTEND;TZID=Europe/Berlin:20260602T190000
DTSTAMP:20260421T105758
CREATED:20260328T181902Z
LAST-MODIFIED:20260328T181902Z
UID:5559-1780421400-1780426800@bogensport-holzhausen.de
SUMMARY:Jugend- und Erwachsenentraining
DESCRIPTION:
URL:https://bogensport-holzhausen.de/termin/jugend-und-erwachsenentraining-9/
LOCATION:Bogenplatz AdV\, Auf dem Volke\, Georgsmarienhütte\, Niedersachsen\, 49124\, Deutschland
CATEGORIES:Training
ORGANIZER;CN="Bogensport Holzhausen":MAILTO:kontakt@bogensport-holzhausen.de
END:VEVENT
BEGIN:VEVENT
DTSTART;TZID=Europe/Berlin:20260604T173000
DTEND;TZID=Europe/Berlin:20260604T190000
DTSTAMP:20260421T105758
CREATED:20260409T192516Z
LAST-MODIFIED:20260409T192516Z
UID:5602-1780594200-1780599600@bogensport-holzhausen.de
SUMMARY:Jugend- und Erwachsenentraining
DESCRIPTION:
URL:https://bogensport-holzhausen.de/termin/jugend-und-erwachsenentraining-34/
LOCATION:Bogenplatz AdV\, Auf dem Volke\, Georgsmarienhütte\, Niedersachsen\, 49124\, Deutschland
CATEGORIES:Training
ORGANIZER;CN="Bogensport Holzhausen":MAILTO:kontakt@bogensport-holzhausen.de
END:VEVENT
BEGIN:VEVENT
DTSTART;TZID=Europe/Berlin:20260606T110000
DTEND;TZID=Europe/Berlin:20260606T123000
DTSTAMP:20260421T105758
CREATED:20260328T180323Z
LAST-MODIFIED:20260328T180323Z
UID:5502-1780743600-1780749000@bogensport-holzhausen.de
SUMMARY:Schülertraining
DESCRIPTION:
URL:https://bogensport-holzhausen.de/termin/schuelertraining-10/
LOCATION:Bogenplatz AdV\, Auf dem Volke\, Georgsmarienhütte\, Niedersachsen\, 49124\, Deutschland
CATEGORIES:Training
ORGANIZER;CN="Bogensport Holzhausen":MAILTO:kontakt@bogensport-holzhausen.de
END:VEVENT
BEGIN:VEVENT
DTSTART;TZID=Europe/Berlin:20260607T100000
DTEND;TZID=Europe/Berlin:20260607T120000
DTSTAMP:20260421T105758
CREATED:20260328T180901Z
LAST-MODIFIED:20260328T180901Z
UID:5534-1780826400-1780833600@bogensport-holzhausen.de
SUMMARY:Jugend - und Leistungstraining
DESCRIPTION:
URL:https://bogensport-holzhausen.de/termin/jugend-und-leistungstraining-10/
LOCATION:Bogenplatz AdV\, Auf dem Volke\, Georgsmarienhütte\, Niedersachsen\, 49124\, Deutschland
CATEGORIES:Training
ORGANIZER;CN="Bogensport Holzhausen":MAILTO:kontakt@bogensport-holzhausen.de
END:VEVENT
BEGIN:VEVENT
DTSTART;TZID=Europe/Berlin:20260609T173000
DTEND;TZID=Europe/Berlin:20260609T190000
DTSTAMP:20260421T105758
CREATED:20260328T181903Z
LAST-MODIFIED:20260328T181903Z
UID:5560-1781026200-1781031600@bogensport-holzhausen.de
SUMMARY:Jugend- und Erwachsenentraining
DESCRIPTION:
URL:https://bogensport-holzhausen.de/termin/jugend-und-erwachsenentraining-10/
LOCATION:Bogenplatz AdV\, Auf dem Volke\, Georgsmarienhütte\, Niedersachsen\, 49124\, Deutschland
CATEGORIES:Training
ORGANIZER;CN="Bogensport Holzhausen":MAILTO:kontakt@bogensport-holzhausen.de
END:VEVENT
BEGIN:VEVENT
DTSTART;TZID=Europe/Berlin:20260611T173000
DTEND;TZID=Europe/Berlin:20260611T190000
DTSTAMP:20260421T105758
CREATED:20260409T192517Z
LAST-MODIFIED:20260409T192517Z
UID:5603-1781199000-1781204400@bogensport-holzhausen.de
SUMMARY:Jugend- und Erwachsenentraining
DESCRIPTION:
URL:https://bogensport-holzhausen.de/termin/jugend-und-erwachsenentraining-35/
LOCATION:Bogenplatz AdV\, Auf dem Volke\, Georgsmarienhütte\, Niedersachsen\, 49124\, Deutschland
CATEGORIES:Training
ORGANIZER;CN="Bogensport Holzhausen":MAILTO:kontakt@bogensport-holzhausen.de
END:VEVENT
BEGIN:VEVENT
DTSTART;TZID=Europe/Berlin:20260611T180000
DTEND;TZID=Europe/Berlin:20260611T193000
DTSTAMP:20260421T105758
CREATED:20260328T182645Z
LAST-MODIFIED:20260328T184933Z
UID:5580-1781200800-1781206200@bogensport-holzhausen.de
SUMMARY:Einsteigerkurs 1
DESCRIPTION:
URL:https://bogensport-holzhausen.de/termin/einsteigerkurs-1-11/
LOCATION:Bogenplatz AdV\, Auf dem Volke\, Georgsmarienhütte\, Niedersachsen\, 49124\, Deutschland
CATEGORIES:Einsteiger
ORGANIZER;CN="Bogensport Holzhausen":MAILTO:kontakt@bogensport-holzhausen.de
END:VEVENT
BEGIN:VEVENT
DTSTART;TZID=Europe/Berlin:20260613T110000
DTEND;TZID=Europe/Berlin:20260613T123000
DTSTAMP:20260421T105758
CREATED:20260328T180337Z
LAST-MODIFIED:20260328T180337Z
UID:5503-1781348400-1781353800@bogensport-holzhausen.de
SUMMARY:Schülertraining
DESCRIPTION:
URL:https://bogensport-holzhausen.de/termin/schuelertraining-11/
LOCATION:Bogenplatz AdV\, Auf dem Volke\, Georgsmarienhütte\, Niedersachsen\, 49124\, Deutschland
CATEGORIES:Training
ORGANIZER;CN="Bogensport Holzhausen":MAILTO:kontakt@bogensport-holzhausen.de
END:VEVENT
BEGIN:VEVENT
DTSTART;TZID=Europe/Berlin:20260614T080000
DTEND;TZID=Europe/Berlin:20260614T170000
DTSTAMP:20260421T105758
CREATED:20260328T154755Z
LAST-MODIFIED:20260328T172429Z
UID:5043-1781424000-1781456400@bogensport-holzhausen.de
SUMMARY:LM WA Feld
DESCRIPTION:LM_WA_Feldbogen_2026
URL:https://bogensport-holzhausen.de/termin/lm-wa-feld/
LOCATION:Feldparcours Wildeshausen\, Glaner Straße\, Wildeshausen\, Wildeshausen\, 27793\, Deutschland
CATEGORIES:Meisterschaft Feld
END:VEVENT
BEGIN:VEVENT
DTSTART;TZID=Europe/Berlin:20260614T100000
DTEND;TZID=Europe/Berlin:20260614T120000
DTSTAMP:20260421T105758
CREATED:20260328T180902Z
LAST-MODIFIED:20260328T180902Z
UID:5535-1781431200-1781438400@bogensport-holzhausen.de
SUMMARY:Jugend - und Leistungstraining
DESCRIPTION:
URL:https://bogensport-holzhausen.de/termin/jugend-und-leistungstraining-11/
LOCATION:Bogenplatz AdV\, Auf dem Volke\, Georgsmarienhütte\, Niedersachsen\, 49124\, Deutschland
CATEGORIES:Training
ORGANIZER;CN="Bogensport Holzhausen":MAILTO:kontakt@bogensport-holzhausen.de
END:VEVENT
BEGIN:VEVENT
DTSTART;TZID=Europe/Berlin:20260616T173000
DTEND;TZID=Europe/Berlin:20260616T190000
DTSTAMP:20260421T105758
CREATED:20260328T181903Z
LAST-MODIFIED:20260328T181903Z
UID:5561-1781631000-1781636400@bogensport-holzhausen.de
SUMMARY:Jugend- und Erwachsenentraining
DESCRIPTION:
URL:https://bogensport-holzhausen.de/termin/jugend-und-erwachsenentraining-11/
LOCATION:Bogenplatz AdV\, Auf dem Volke\, Georgsmarienhütte\, Niedersachsen\, 49124\, Deutschland
CATEGORIES:Training
ORGANIZER;CN="Bogensport Holzhausen":MAILTO:kontakt@bogensport-holzhausen.de
END:VEVENT
BEGIN:VEVENT
DTSTART;TZID=Europe/Berlin:20260618T173000
DTEND;TZID=Europe/Berlin:20260618T190000
DTSTAMP:20260421T105758
CREATED:20260409T192517Z
LAST-MODIFIED:20260409T192517Z
UID:5604-1781803800-1781809200@bogensport-holzhausen.de
SUMMARY:Jugend- und Erwachsenentraining
DESCRIPTION:
URL:https://bogensport-holzhausen.de/termin/jugend-und-erwachsenentraining-36/
LOCATION:Bogenplatz AdV\, Auf dem Volke\, Georgsmarienhütte\, Niedersachsen\, 49124\, Deutschland
CATEGORIES:Training
ORGANIZER;CN="Bogensport Holzhausen":MAILTO:kontakt@bogensport-holzhausen.de
END:VEVENT
BEGIN:VEVENT
DTSTART;TZID=Europe/Berlin:20260620T110000
DTEND;TZID=Europe/Berlin:20260620T123000
DTSTAMP:20260421T105758
CREATED:20260328T180338Z
LAST-MODIFIED:20260328T180338Z
UID:5504-1781953200-1781958600@bogensport-holzhausen.de
SUMMARY:Schülertraining
DESCRIPTION:
URL:https://bogensport-holzhausen.de/termin/schuelertraining-12/
LOCATION:Bogenplatz AdV\, Auf dem Volke\, Georgsmarienhütte\, Niedersachsen\, 49124\, Deutschland
CATEGORIES:Training
ORGANIZER;CN="Bogensport Holzhausen":MAILTO:kontakt@bogensport-holzhausen.de
END:VEVENT
BEGIN:VEVENT
DTSTART;TZID=Europe/Berlin:20260621T100000
DTEND;TZID=Europe/Berlin:20260621T120000
DTSTAMP:20260421T105758
CREATED:20260328T180903Z
LAST-MODIFIED:20260328T180903Z
UID:5536-1782036000-1782043200@bogensport-holzhausen.de
SUMMARY:Jugend - und Leistungstraining
DESCRIPTION:
URL:https://bogensport-holzhausen.de/termin/jugend-und-leistungstraining-12/
LOCATION:Bogenplatz AdV\, Auf dem Volke\, Georgsmarienhütte\, Niedersachsen\, 49124\, Deutschland
CATEGORIES:Training
ORGANIZER;CN="Bogensport Holzhausen":MAILTO:kontakt@bogensport-holzhausen.de
END:VEVENT
BEGIN:VEVENT
DTSTART;TZID=Europe/Berlin:20260623T173000
DTEND;TZID=Europe/Berlin:20260623T190000
DTSTAMP:20260421T105758
CREATED:20260328T181904Z
LAST-MODIFIED:20260328T181904Z
UID:5562-1782235800-1782241200@bogensport-holzhausen.de
SUMMARY:Jugend- und Erwachsenentraining
DESCRIPTION:
URL:https://bogensport-holzhausen.de/termin/jugend-und-erwachsenentraining-12/
LOCATION:Bogenplatz AdV\, Auf dem Volke\, Georgsmarienhütte\, Niedersachsen\, 49124\, Deutschland
CATEGORIES:Training
ORGANIZER;CN="Bogensport Holzhausen":MAILTO:kontakt@bogensport-holzhausen.de
END:VEVENT
BEGIN:VEVENT
DTSTART;TZID=Europe/Berlin:20260625T173000
DTEND;TZID=Europe/Berlin:20260625T190000
DTSTAMP:20260421T105758
CREATED:20260409T192529Z
LAST-MODIFIED:20260409T192529Z
UID:5605-1782408600-1782414000@bogensport-holzhausen.de
SUMMARY:Jugend- und Erwachsenentraining
DESCRIPTION:
URL:https://bogensport-holzhausen.de/termin/jugend-und-erwachsenentraining-37/
LOCATION:Bogenplatz AdV\, Auf dem Volke\, Georgsmarienhütte\, Niedersachsen\, 49124\, Deutschland
CATEGORIES:Training
ORGANIZER;CN="Bogensport Holzhausen":MAILTO:kontakt@bogensport-holzhausen.de
END:VEVENT
BEGIN:VEVENT
DTSTART;TZID=Europe/Berlin:20260627T110000
DTEND;TZID=Europe/Berlin:20260627T123000
DTSTAMP:20260421T105758
CREATED:20260328T180339Z
LAST-MODIFIED:20260328T180339Z
UID:5505-1782558000-1782563400@bogensport-holzhausen.de
SUMMARY:Schülertraining
DESCRIPTION:
URL:https://bogensport-holzhausen.de/termin/schuelertraining-13/
LOCATION:Bogenplatz AdV\, Auf dem Volke\, Georgsmarienhütte\, Niedersachsen\, 49124\, Deutschland
CATEGORIES:Training
ORGANIZER;CN="Bogensport Holzhausen":MAILTO:kontakt@bogensport-holzhausen.de
END:VEVENT
BEGIN:VEVENT
DTSTART;TZID=Europe/Berlin:20260627T123000
DTEND;TZID=Europe/Berlin:20260627T130000
DTSTAMP:20260421T105758
CREATED:20260328T180622Z
LAST-MODIFIED:20260328T180622Z
UID:5521-1782563400-1782565200@bogensport-holzhausen.de
SUMMARY:Techniktraining
DESCRIPTION:
URL:https://bogensport-holzhausen.de/termin/techniktraining-3/
LOCATION:Bogenplatz AdV\, Auf dem Volke\, Georgsmarienhütte\, Niedersachsen\, 49124\, Deutschland
CATEGORIES:Training
ORGANIZER;CN="Bogensport Holzhausen":MAILTO:kontakt@bogensport-holzhausen.de
END:VEVENT
BEGIN:VEVENT
DTSTART;TZID=Europe/Berlin:20260628T080000
DTEND;TZID=Europe/Berlin:20260628T170000
DTSTAMP:20260421T105758
CREATED:20260328T153712Z
LAST-MODIFIED:20260328T172408Z
UID:5023-1782633600-1782666000@bogensport-holzhausen.de
SUMMARY:LA WA im Freien
DESCRIPTION:LM_WA_Bogen_im_Freien_2026
URL:https://bogensport-holzhausen.de/termin/la-wa-im-freein/
LOCATION:TuS Zeven\, Bäkerstrasse\, Zeven\, 27404\, Germany
CATEGORIES:Meisterschaft im Freien
END:VEVENT
BEGIN:VEVENT
DTSTART;TZID=Europe/Berlin:20260628T100000
DTEND;TZID=Europe/Berlin:20260628T120000
DTSTAMP:20260421T105758
CREATED:20260328T180903Z
LAST-MODIFIED:20260328T180903Z
UID:5537-1782640800-1782648000@bogensport-holzhausen.de
SUMMARY:Jugend - und Leistungstraining
DESCRIPTION:
URL:https://bogensport-holzhausen.de/termin/jugend-und-leistungstraining-13/
LOCATION:Bogenplatz AdV\, Auf dem Volke\, Georgsmarienhütte\, Niedersachsen\, 49124\, Deutschland
CATEGORIES:Training
ORGANIZER;CN="Bogensport Holzhausen":MAILTO:kontakt@bogensport-holzhausen.de
END:VEVENT
END:VCALENDAR